BEGIN:VCALENDAR
VERSION:2.0
PRODID:-//ChamberMaster//Event Calendar 2.0//EN
METHOD:PUBLISH
X-PUBLISHED-TTL:P3D
REFRESH-INTERVAL:P3D
CALSCALE:GREGORIAN
BEGIN:VEVENT
DTSTART;VALUE=DATE:20161001
DTEND;VALUE=DATE:20161002
TRANSP:TRANSPARENT
X-MICROSOFT-CDO-ALLDAYEVENT:TRUE
SUMMARY:ECU Football vs. UCF
DESCRIPTION:Head out for Family Weekend and Paint It Purple as the Pirates begin American Athletic Conference play against UCF!
X-ALT-DESC;FMTTYPE=text/html:Head out for Family Weekend and Paint It Purple as the Pirates begin American Athletic Conference play against UCF!
LOCATION:Dowdy-Ficklen Stadium
UID:e.840.4896
SEQUENCE:3
DTSTAMP:20260424T010623Z
URL:https://business.greenvillenc.org/events/details/ecu-football-vs-ucf-10-01-2016-4896
END:VEVENT

END:VCALENDAR
