BEGIN:VCALENDAR
VERSION:2.0
PRODID:-//ChamberMaster//Event Calendar 2.0//EN
METHOD:PUBLISH
X-PUBLISHED-TTL:P3D
REFRESH-INTERVAL:P3D
CALSCALE:GREGORIAN
BEGIN:VEVENT
DTSTART;VALUE=DATE:20161112
DTEND;VALUE=DATE:20161113
TRANSP:TRANSPARENT
X-MICROSOFT-CDO-ALLDAYEVENT:TRUE
SUMMARY:ECU Football vs. SMU
DESCRIPTION:Join the Pirates for Senior Day and Military Appreciation Day as they host SMU for the final home game of the 2016 season!
X-ALT-DESC;FMTTYPE=text/html:Join the Pirates for Senior Day and Military Appreciation Day as they host SMU for the final home game of the 2016 season!
LOCATION:Dowdy-Ficklen Stadium
UID:e.840.4899
SEQUENCE:3
DTSTAMP:20260424T000309Z
URL:https://business.greenvillenc.org/events/details/ecu-football-vs-smu-11-12-2016-4899
END:VEVENT

END:VCALENDAR
