BEGIN:VCALENDAR
VERSION:2.0
PRODID:-//ChamberMaster//Event Calendar 2.0//EN
METHOD:PUBLISH
X-PUBLISHED-TTL:P3D
REFRESH-INTERVAL:P3D
CALSCALE:GREGORIAN
BEGIN:VEVENT
DTSTART;VALUE=DATE:20160910
DTEND;VALUE=DATE:20160911
TRANSP:TRANSPARENT
X-MICROSOFT-CDO-ALLDAYEVENT:TRUE
SUMMARY:ECU Football vs. NC State
DESCRIPTION:Stripe Dowdy-Ficklen Stadium as the Pirates take on in-state rival NC State!
X-ALT-DESC;FMTTYPE=text/html:Stripe Dowdy-Ficklen Stadium as the Pirates take on in-state rival NC State!
LOCATION:Dowdy-Ficklen Stadium
UID:e.840.4895
SEQUENCE:3
DTSTAMP:20260424T024942Z
URL:https://business.greenvillenc.org/events/details/ecu-football-vs-nc-state-09-10-2016-4895
END:VEVENT

END:VCALENDAR
