BEGIN:VCALENDAR
VERSION:2.0
PRODID:-//ChamberMaster//Event Calendar 2.0//EN
METHOD:PUBLISH
X-PUBLISHED-TTL:P3D
REFRESH-INTERVAL:P3D
CALSCALE:GREGORIAN
BEGIN:VEVENT
DTSTART:20170914T140000Z
DTEND:20170914T170000Z
X-MICROSOFT-CDO-ALLDAYEVENT:FALSE
SUMMARY:ECU Fall 2017 Health Careers Fair
DESCRIPTION:At the Health Careers Fair\, you will meet top quality Health Sciences\, Nursing\, Chemistry\, Biology\, and Health & Human Performance ECU students and alumni. We also extend an invitation to students pursuing health related disciplines at our five local community colleges.
X-ALT-DESC;FMTTYPE=text/html:<span style="font-size:12pt">At the Health Careers Fair\, you will meet top quality Health Sciences\, Nursing\, Chemistry\, Biology\, and Health &amp\; Human Performance ECU students and alumni. We also extend an invitation to students pursuing health related disciplines at our five local community colleges.</span>
LOCATION:East Carolina Heart Institute at East Carolina University
UID:e.840.8644
SEQUENCE:3
DTSTAMP:20260423T092726Z
URL:https://business.greenvillenc.org/events/details/ecu-fall-2017-health-careers-fair-8644
END:VEVENT

END:VCALENDAR
