BEGIN:VCALENDAR
VERSION:2.0
PRODID:-//ChamberMaster//Event Calendar 2.0//EN
METHOD:PUBLISH
X-PUBLISHED-TTL:P3D
REFRESH-INTERVAL:P3D
CALSCALE:GREGORIAN
BEGIN:VEVENT
DTSTART:20171004T170000Z
DTEND:20171004T200000Z
X-MICROSOFT-CDO-ALLDAYEVENT:FALSE
SUMMARY:ECU Fall 2017 Career Fair
DESCRIPTION:At the Fall Career Fair\, you will meet top quality students and alumni from a wide variety of majors\, Career Services Staff\, and attending faculty. We also extend an invitation to students attending other UNC System Schools. \n\n\n\nYour registration fee includes one representative's attendance\, buffet lunch\, convenient parking\, WiFi\, and one 8 ft table with cloth. Any additional representatives will be an additional $30.00 fee per person.
X-ALT-DESC;FMTTYPE=text/html:<span style="font-size:9pt">At the Fall Career Fair\, you will meet top quality students and alumni from a wide variety of majors\, Career Services Staff\, and attending faculty.&nbsp\;We also extend an invitation to students attending other UNC System Schools.&nbsp\;</span><br />\n<br />\n<span style="font-size:9pt">Your registration fee includes one representative&#39\;s attendance\, buffet lunch\, convenient parking\, WiFi\, and one 8&nbsp\;</span>ft<span style="font-size:9pt">&nbsp\;table with cloth. Any additional representatives will be an additional $30.00 fee per person.</span>
LOCATION:Greenville Convention Center
UID:e.840.8645
SEQUENCE:3
DTSTAMP:20260423T075142Z
URL:https://business.greenvillenc.org/events/details/ecu-fall-2017-career-fair-8645
END:VEVENT

END:VCALENDAR
