BEGIN:VCALENDAR
VERSION:2.0
PRODID:-//ChamberMaster//Event Calendar 2.0//EN
METHOD:PUBLISH
X-PUBLISHED-TTL:P3D
REFRESH-INTERVAL:P3D
CALSCALE:GREGORIAN
BEGIN:VEVENT
DTSTART:20191031T123000Z
DTEND:20191031T193000Z
X-MICROSOFT-CDO-ALLDAYEVENT:FALSE
SUMMARY:ECU Caeer Services: Total Internship Management Workshop
DESCRIPTION:Everyone knows the value of internships\, but does your organization run a strong intern program that maintains a pipeline of highly qualified candidates for full-time roles?  Internships and other forms of experiential education help students make a seamless transition to the world of work and are a perfect vehicle to increase retention rates\, complete short-term projects\, and identify future hires.\n\n\n\nOn October 31st \, East Carolina University Career Services\, the Greenville-Pitt County Chamber of Commerce\, Pitt County Community College\, and the Pitt County Development Commission\, will welcome Dr. Robert Shindell from Intern Bridge\, the nation's leading research & consulting firms to share a newfound approach to internships based on in-depth research and proven strategies.
X-ALT-DESC;FMTTYPE=text/html:Everyone knows the value of internships\, but does your organization run a strong intern program that maintains a<strong>&nbsp\;pipeline of highly qualified candidates</strong>&nbsp\;for full-time roles? &nbsp\;Internships and other forms of experiential education help students make a seamless transition to the world of work and are a perfect vehicle to<strong>&nbsp\;<em>increase retention rates</em>\,</strong>&nbsp\;<strong><em>complete short-term projects</em></strong>\, and&nbsp\;<strong><em>identify future hires</em></strong>.<br />\n<br />\n<span style="font-family:calibri\,sans-serif"><span style="font-size:11.0pt">On October 31<sup>st</sup> \, East Carolina University Career Services\, the Greenville-Pitt County Chamber of Commerce\, Pitt County Community College\, and the Pitt County Development Commission\, will welcome Dr. Robert Shindell from <u><a href="http://www.internbridge.com/east-carolina">Intern Bridge</a></u>\, the nation&rsquo\;s leading research &amp\; consulting firms to share a newfound approach to internships based on in-depth research and proven strategies.</span></span><br />\n&nbsp\;
LOCATION:The Total Internship Management Workshop will be located at the New Student Center 909 Lawrence St\, Greenville\, NC 27858.
UID:e.840.10190
SEQUENCE:3
DTSTAMP:20260420T092340Z
URL:https://business.greenvillenc.org/events/details/ecu-caeer-services-total-internship-management-workshop-10190
END:VEVENT

END:VCALENDAR
