BEGIN:VCALENDAR
VERSION:2.0
PRODID:-//ChamberMaster//Event Calendar 2.0//EN
METHOD:PUBLISH
X-PUBLISHED-TTL:P3D
REFRESH-INTERVAL:P3D
CALSCALE:GREGORIAN
BEGIN:VEVENT
DTSTART;VALUE=DATE:20160909
DTEND;VALUE=DATE:20160910
TRANSP:TRANSPARENT
X-MICROSOFT-CDO-ALLDAYEVENT:TRUE
SUMMARY:ECU Alumni Scholarship Classic golf tournament
DESCRIPTION:Since its establishment in 2005\, the East Carolina Alumni Association scholarship program has awarded 252 scholarships totaling nearly $350\,000. These scholarships are funded by contributions from generous alumni\, along with participants of the golf tournament in the fall and the Pirate Alumni Road Race and Fun Run in the spring.* Your participation in these fundraisers ensures that we can continue to grow our scholarship program.\n\n\n\nEnjoy a day on the links with fellow ECU supporters for a game of golf and plenty of prizes! With trophies awarded to the teams with the lowest gross score and lowest net score\, hole-in-one prizes on all par 3 holes\, longest drive\, and closest-to-the-pin\, your swing may land you a bounty. Best of all\, it's for a good cause ECU scholarships!\n\nOur tournament is one of a few throughout the country that is affiliated with the Liberty Mutual Alumni Cup program. Additional prizes and other fantastic giveaways will be included for each golfer! Acura also sponsors a hole-in-one vehicle contest!\n\n\n\nThe winning golf team (lowest gross score) will have the opportunity to represent ECU and play at legendary Pinehurst No. 2 and No. 4 in the Acura College Alumni Team Championship held October 27-30\, 2016. The top six teams will win prizes and the winning team will be crowned the National College Alumni Team Champions.\n\n \n\nFriday\, September 9\, 2016\n\nAll events at Ironwood Golf & Country Club\n\n8:00 a.m.\n\nBreakfast provided by\n\nChick-fil-A and The Fresh Market\n\n9:00 a.m.\n\nFirst Flight of Golf\n\n\n\n12:30-2:00 p.m.\n\nLunch\n\n\n\n2:00 p.m.\n\nSecond Flight of Golf\n\n\n\nGolf Package\n\nGreen Fee and Cart  \n\nBeverage and Snack Service\n\nGolfer's Goody Bag\n\nBreakfast by Chick-fil-A and The Fresh Market\n\nLunch\n \n\n$145 per player\n\n$20 Add-On Package includes 1 mulligan & 1 tee buster
X-ALT-DESC;FMTTYPE=text/html:<p>Since its establishment in 2005\, the East Carolina Alumni Association scholarship program has awarded 252 scholarships totaling nearly $350\,000. These scholarships are funded by contributions from generous alumni\, along with participants of the golf tournament in the fall and the&nbsp\;<a href="http://www.piratealumni.com/roadrace" style="transition:0.3s\; color: rgb(72\, 42\, 127)\; text-decoration: none\; box-sizing: border-box\; background-color: transparent\; -webkit-transition: all 0.3s ease\;" target="_blank" title="">Pirate Alumni Road Race and Fun Run</a>&nbsp\;in the spring.* Your participation in these fundraisers ensures that we can continue to grow our scholarship program.<br />\n<br />\nEnjoy a day on the links with fellow ECU supporters for a game of golf and plenty of prizes! With trophies awarded to the teams with the lowest gross score and lowest net score\, hole-in-one prizes on all par 3 holes\, longest drive\, and closest-to-the-pin\, your swing may land you a bounty. Best of all\, it&rsquo\;s for a good cause&mdash\;ECU scholarships!</p>\n\n<p>Our tournament is one of a few throughout the country that is affiliated with the&nbsp\;<a href="https://www.facebook.com/LibertyMutualGolf/app_524597240888749" style="transition:0.3s\; color: rgb(72\, 42\, 127)\; text-decoration: none\; box-sizing: border-box\; background-color: transparent\; -webkit-transition: all 0.3s ease\;" target="_blank"><strong>Liberty Mutual Alumni Cup</strong></a>&nbsp\;program. Additional prizes and other fantastic giveaways will be included for each golfer! Acura also sponsors a hole-in-one vehicle contest!<br />\n<br />\nThe winning golf team (lowest gross score) will have the opportunity to represent ECU and play at legendary Pinehurst No. 2 and No. 4 in the&nbsp\;<a href="http://acuraalumniteamchampionship.com/" style="transition:0.3s\; color: rgb(72\, 42\, 127)\; text-decoration: none\; box-sizing: border-box\; background-color: transparent\; -webkit-transition: all 0.3s ease\;" target="_blank"><strong>Acura College Alumni Team Championship</strong></a>&nbsp\;held October 27-30\, 2016. The top six teams will win prizes and the winning team will be crowned the National College Alumni Team Champions.<br />\n&nbsp\;</p>\n\n<div style="text-align: center\;"><strong>Friday\, September 9\, 2016</strong></div>\n\n<div style="text-align: center\;"><em>All events at Ironwood Golf &amp\; Country Club</em></div>\n\n<p style="text-align: center\;">8:00 a.m.<br />\nBreakfast provided by<br />\nChick-fil-A and The Fresh Market</p>\n\n<div style="text-align: center\;">9:00 a.m.</div>\n\n<div style="text-align: center\;">First Flight of Golf<br />\n<br />\n12:30-2:00 p.m.<br />\nLunch<br />\n<br />\n2:00 p.m.<br />\nSecond Flight of Golf<br />\n<br />\n<strong>Golf Package</strong><br />\nGreen Fee and Cart &nbsp\;<br />\nBeverage and Snack Service<br />\nGolfer&rsquo\;s Goody Bag<br />\nBreakfast by Chick-fil-A and The Fresh Market<br />\nLunch</div>\n&nbsp\;\n\n<div style="text-align: center\;">$145 per player<br />\n$20 Add-On Package includes 1 mulligan &amp\; 1 tee buster</div>\n
LOCATION:Ironwood Golf and Country Club 200 Golf Club Wynd Greenville\, NC 27834
UID:e.840.2687
SEQUENCE:3
DTSTAMP:20260424T035710Z
URL:https://business.greenvillenc.org/events/details/ecu-alumni-scholarship-classic-golf-tournament-09-09-2016-2687
END:VEVENT

END:VCALENDAR
