BEGIN:VCALENDAR
VERSION:2.0
PRODID:-//ChamberMaster//Event Calendar 2.0//EN
METHOD:PUBLISH
X-PUBLISHED-TTL:P3D
REFRESH-INTERVAL:P3D
CALSCALE:GREGORIAN
BEGIN:VEVENT
DTSTART:20190313T120000Z
DTEND:20190313T140000Z
X-MICROSOFT-CDO-ALLDAYEVENT:FALSE
SUMMARY:ECU 2019 Spring Education Career Fair
DESCRIPTION:The Spring Education Career Fair Career is focused specifically on the educational departments housed within the College of Education. School Systems should be attending with the intention of recruiting graduating students for entry-level\, full-time teaching positions.
X-ALT-DESC;FMTTYPE=text/html:The Spring Education Career Fair Career is focused specifically on the educational departments housed within the College of Education. School Systems should be attending with the intention of recruiting graduating students for entry-level\, full-time teaching positions.
LOCATION:The Spring 2019 Education Career Fair will be held at 303 . SW Greenville Bv\, Greenville\, North Carolina 27834\, United States.
UID:e.840.9747
SEQUENCE:3
DTSTAMP:20260420T202721Z
URL:https://business.greenvillenc.org/events/details/ecu-2019-spring-education-career-fair-9747
END:VEVENT

END:VCALENDAR
