BEGIN:VCALENDAR
VERSION:2.0
PRODID:-//ChamberMaster//Event Calendar 2.0//EN
METHOD:PUBLISH
X-PUBLISHED-TTL:P3D
REFRESH-INTERVAL:P3D
CALSCALE:GREGORIAN
BEGIN:VEVENT
DTSTART:20190313T170000Z
DTEND:20190313T200000Z
X-MICROSOFT-CDO-ALLDAYEVENT:FALSE
SUMMARY:ECU 2019 Spring Career Fair
DESCRIPTION:The Spring Career  Fair is an "All Majors" event. Employers  considering this event should be attending with the intention of recruiting students for Full-Time positions\, Internships and Co-ops.
X-ALT-DESC;FMTTYPE=text/html:The Spring Career&nbsp\; Fair is an &quot\;All Majors&quot\; event. Employers&nbsp\; considering this event should be attending with the intention of recruiting students for Full-Time positions\, Internships and Co-ops.
LOCATION:The Spring Career Fair will be held at the Greenville Convention Center\, located at 303 Greenville Blvd SW\, Greenville NC\, 27834.
UID:e.840.9748
SEQUENCE:3
DTSTAMP:20260420T201804Z
URL:https://business.greenvillenc.org/events/details/ecu-2019-spring-career-fair-9748
END:VEVENT

END:VCALENDAR
