BEGIN:VCALENDAR
VERSION:2.0
PRODID:-//ChamberMaster//Event Calendar 2.0//EN
METHOD:PUBLISH
X-PUBLISHED-TTL:P3D
REFRESH-INTERVAL:P3D
CALSCALE:GREGORIAN
BEGIN:VEVENT
DTSTART:20190211T213000Z
DTEND:20190211T230000Z
X-MICROSOFT-CDO-ALLDAYEVENT:FALSE
SUMMARY:ECU 2019 Pirate Nurse Expo
DESCRIPTION:The Pirate Nurse Expo features graduating students from the ECU College of Nursing. Employers  considering this event should be attending with the intention of recruiting graduating students for entry-level \, full-time nursing positions.
X-ALT-DESC;FMTTYPE=text/html:The Pirate Nurse Expo features graduating students from the ECU College of Nursing. Employers&nbsp\; considering this event should be attending with the intention of recruiting graduating students for entry-level \, full-time nursing positions.
LOCATION:The 2019 Pirate Nurse Expo will be held at the East Carolina University College of Nursing located at 2205 W 5th St\, Greenville\, NC 27834.
UID:e.840.9746
SEQUENCE:3
DTSTAMP:20260420T202721Z
URL:https://business.greenvillenc.org/events/details/ecu-2019-pirate-nurse-expo-9746
END:VEVENT

END:VCALENDAR
