BEGIN:VCALENDAR
VERSION:2.0
PRODID:-//ChamberMaster//Event Calendar 2.0//EN
METHOD:PUBLISH
X-PUBLISHED-TTL:P3D
REFRESH-INTERVAL:P3D
CALSCALE:GREGORIAN
BEGIN:VEVENT
DTSTART:20190820T170000Z
DTEND:20190820T200000Z
X-MICROSOFT-CDO-ALLDAYEVENT:FALSE
SUMMARY:ECU 2019 Part-time Job Fair
DESCRIPTION:ECU Career Services\, in partnership with ECU Student Employer and Federal Work Study\, is pleased to announce the Part-time Job Fair. This event\, on August 20th\, 2019 from 1:00 PM - 4:00 PM\, will be for all on-campus and off campus employment. If you have part-time jobs and are in need of additional assistance as the academic year kicks into full gear\, this is the event to attend!\n\n\n\nTo reserve your table\, please contact Career Services at 252-328-6050 or employerrelations@ecu.edu.
X-ALT-DESC;FMTTYPE=text/html:ECU Career Services\, in partnership with ECU Student Employer and Federal Work Study\, is pleased to announce the Part-time Job Fair. This event\, on August 20th\, 2019 from 1:00 PM - 4:00 PM\, will be for all on-campus and off campus employment. If you have part-time jobs and are in need of additional assistance as the academic year kicks into full gear\, this is the event to attend!<br />\n<br />\nTo reserve your table\, please contact Career Services at 252-328-6050 or employerrelations@ecu.edu.<br />\n&nbsp\;
LOCATION:The Part-Time Job Fair will be located at the New Student Center 909 Lawrence St\, Greenville\, NC 27858.
UID:e.840.10186
SEQUENCE:3
DTSTAMP:20260420T132649Z
URL:https://business.greenvillenc.org/events/details/ecu-2019-part-time-job-fair-10186
END:VEVENT

END:VCALENDAR
