BEGIN:VCALENDAR
VERSION:2.0
PRODID:-//ChamberMaster//Event Calendar 2.0//EN
METHOD:PUBLISH
X-PUBLISHED-TTL:P3D
REFRESH-INTERVAL:P3D
CALSCALE:GREGORIAN
BEGIN:VEVENT
DTSTART:20190207T180000Z
DTEND:20190207T210000Z
X-MICROSOFT-CDO-ALLDAYEVENT:FALSE
SUMMARY:ECU 2019 Part-Time Job and Internship Fair
DESCRIPTION:ECU Career Services will be hosting its Spring Part-Time Job and Internship Fair on February 7th 2019 from 1:00 PM - 4:00 PM at the new ECU Student Center. The Spring Part-Time Job and Internship Fair is an "All Majors" Career Fair. Employers  considering this event should be attending with the intention of recruiting students for Seasonal Employment\, Internship Opportunities\, Non-Profit Volunteer Opportunities and Federal and On-Campus Employment.
X-ALT-DESC;FMTTYPE=text/html:<p>ECU Career Services will be hosting its Spring <strong>Part-Time Job and Internship Fair</strong> on<strong> February 7th 2019 from 1:00 PM - 4:00 PM</strong> at the new <strong>ECU Student Center</strong>. The Spring Part-Time Job and Internship Fair is an &quot\;All Majors&quot\; Career Fair. Employers&nbsp\; considering this event should be attending with the intention of recruiting students for <strong>Seasonal Employment\, Internship Opportunities\, Non-Profit Volunteer Opportunities and Federal and On-Campus Employment.</strong></p>\n
LOCATION:The Part-Time Job and Internship Fair will be located at the New Student Center 909 Lawrence St\, Greenville\, NC 27858.
UID:e.840.9745
SEQUENCE:3
DTSTAMP:20260420T214101Z
URL:https://business.greenvillenc.org/events/details/ecu-2019-part-time-job-and-internship-fair-9745
END:VEVENT

END:VCALENDAR
