BEGIN:VCALENDAR
VERSION:2.0
PRODID:-//ChamberMaster//Event Calendar 2.0//EN
METHOD:PUBLISH
X-PUBLISHED-TTL:P3D
REFRESH-INTERVAL:P3D
CALSCALE:GREGORIAN
BEGIN:VEVENT
DTSTART:20191016T173000Z
DTEND:20191016T203000Z
X-MICROSOFT-CDO-ALLDAYEVENT:FALSE
SUMMARY:ECU 2019 Job and Internship Fair
DESCRIPTION:ECU Career Services will be hosting its Fall Career Fair on October 16th\, 2018 from 1:30 PM - 4:30 PM\, this is an academically focused event. An emphasis will be placed on full-time\, internships and graduate school programs\, encouraging student participation at all academic levels.\nAt the Fall Career Fair\, you will meet top quality students and alumni from the College of Business\, the Thomas Harriot College of Arts and Sciences\, the College of Fine Arts and Communication\, and our College of Health and Human Performance
X-ALT-DESC;FMTTYPE=text/html:<p>ECU Career Services will be hosting its Fall Career Fair on October 16th\, 2018 from 1:30 PM - 4:30 PM\, this is an academically focused event. An emphasis will be placed on full-time\, internships and graduate school programs\, encouraging student participation at all academic levels.</p>\nAt the Fall Career Fair\, you will meet top quality students and alumni from the College of Business\, the Thomas Harriot College of Arts and Sciences\, the College of Fine Arts and Communication\, and our College of Health and Human Performance
LOCATION:Greenville Convention Center located at 303 Greenville Blvd SW\, Greenville NC\, 27834
UID:e.840.10189
SEQUENCE:3
DTSTAMP:20260420T092818Z
URL:https://business.greenvillenc.org/events/details/ecu-2019-job-and-internship-fair-10189
END:VEVENT

END:VCALENDAR
