BEGIN:VCALENDAR
VERSION:2.0
PRODID:-//ChamberMaster//Event Calendar 2.0//EN
METHOD:PUBLISH
X-PUBLISHED-TTL:P3D
REFRESH-INTERVAL:P3D
CALSCALE:GREGORIAN
BEGIN:VEVENT
DTSTART:20191016T123000Z
DTEND:20191016T153000Z
X-MICROSOFT-CDO-ALLDAYEVENT:FALSE
SUMMARY:ECU 2019 Engineering\, Technology and Management Career Fair
DESCRIPTION:ECU Career Services\, in partnership with the College of Engineering and Technology (CET)\, is proud to announce the Engineering\, Technology and Management Career Fair. This event\, on October 16th\, 2019 from 8:30 AM 11:30 AM\, is an academically focused event. An emphasis will be placed on full-time employment\, internships and CO-OP opportunities\, encouraging student participation at all academic levels.\n\nAt the College of Engineering and Technology Fair\, you will meet top quality students and alumni from Engineering\, Construction Management\, Computer Science\, Design\, Industrial Distribution and Logistics\, Industrial Engineering Technology\, Information and Computer Technology\, Management Information Systems and Marketing and Supply Chain Management.
X-ALT-DESC;FMTTYPE=text/html:<p>ECU Career Services\, in partnership with the College of Engineering and Technology (CET)\, is proud to announce the Engineering\, Technology and Management Career Fair. This event\, on October 16th\, 2019 from 8:30 AM&mdash\;11:30 AM\, is an academically focused event. An emphasis will be placed on full-time employment\, internships and CO-OP opportunities\, encouraging student participation at all academic levels.</p>\n\n<p>At the College of Engineering and Technology Fair\, you will meet top quality students and alumni from Engineering\, Construction Management\, Computer Science\, Design\, Industrial Distribution and Logistics\, Industrial Engineering Technology\, Information and Computer Technology\, Management Information Systems and Marketing and Supply Chain Management.</p>\n
LOCATION:Greenville Convention Center located at 303 Greenville Blvd SW\, Greenville NC\, 27834
UID:e.840.10188
SEQUENCE:3
DTSTAMP:20260420T092609Z
URL:https://business.greenvillenc.org/events/details/ecu-2019-engineering-technology-and-management-career-fair-10188
END:VEVENT

END:VCALENDAR
