BEGIN:VCALENDAR
VERSION:2.0
PRODID:-//ChamberMaster//Event Calendar 2.0//EN
METHOD:PUBLISH
X-PUBLISHED-TTL:P3D
REFRESH-INTERVAL:P3D
CALSCALE:GREGORIAN
BEGIN:VEVENT
DTSTART:20180913T140000Z
DTEND:20180913T170000Z
X-MICROSOFT-CDO-ALLDAYEVENT:FALSE
SUMMARY:ECU 2018 Health Careers Fair
DESCRIPTION:ECU Career Services will be hosting it's Health Careers Fair September 13th\, 2018 from 10:00 AM - 1:00 PM\, this is an academically focused event. An emphasis will be placed on full-time and graduate school programs\, encouraging student participation at all academic levels.\n\n\n\nAt the Health Careers Fair\, you will meet top quality students and alumni from the Health Sciences\, the College Nursing\, the College of Health & Human Performance\, Chemistry\, and Biology students.
X-ALT-DESC;FMTTYPE=text/html:ECU Career Services will be hosting it&#39\;s Health Careers Fair September 13th\, 2018 from 10:00 AM - 1:00 PM\, this is an academically focused event. An emphasis will be placed on full-time and graduate school programs\, encouraging student participation at all academic levels.<br />\n<br />\nAt the Health Careers Fair\, you will meet top quality students and alumni from the Health Sciences\, the College Nursing\, the College of Health &amp\; Human Performance\, Chemistry\, and Biology students.<br />\n&nbsp\;
LOCATION:East Carolina Heart Institute located at 115 Heart Drive\, Greenville\, North Carolina 27834
UID:e.840.8897
SEQUENCE:3
DTSTAMP:20260421T031825Z
URL:https://business.greenvillenc.org/events/details/ecu-2018-health-careers-fair-8897
END:VEVENT

END:VCALENDAR
