BEGIN:VCALENDAR
VERSION:2.0
PRODID:-//ChamberMaster//Event Calendar 2.0//EN
METHOD:PUBLISH
X-PUBLISHED-TTL:P3D
REFRESH-INTERVAL:P3D
CALSCALE:GREGORIAN
BEGIN:VEVENT
DTSTART:20181017T130000Z
DTEND:20181017T150000Z
X-MICROSOFT-CDO-ALLDAYEVENT:FALSE
SUMMARY:ECU 2018 College of Engineering & Technology Fair
DESCRIPTION:ECU Career Services\, in partnership with the College of Engineering and Technology (CET)\, is proud to announce the first CET Career Fair. This event\, on October 17th\, 2018 from 9:00 AM 11:00 AM\, is an academically focused event. An emphasis will be placed on full-time employment\, internships and CO-OP opportunities\, encouraging student participation at all academic levels.\n\nAt the College of Engineering and Technology Fair\, you will meet top quality students and alumni from Engineering\, Construction Management\, Computer Science\, Design\, Industrial Distribution and Logistics\, Industrial Engineering Technology\, Information and Computer Technology\, Management Information Systems and Marketing and Supply Chain Management.
X-ALT-DESC;FMTTYPE=text/html:<p>ECU Career Services\, in partnership with the College of Engineering and Technology (CET)\, is proud to announce the first CET Career Fair. This event\, on October 17th\, 2018 from 9:00 AM&mdash\;11:00 AM\, is an academically focused event. An emphasis will be placed on full-time employment\, internships and CO-OP opportunities\, encouraging student participation at all academic levels.</p>\n\n<p>At the College of Engineering and Technology Fair\, you will meet top quality students and alumni from Engineering\, Construction Management\, Computer Science\, Design\, Industrial Distribution and Logistics\, Industrial Engineering Technology\, Information and Computer Technology\, Management Information Systems and Marketing and Supply Chain Management.</p>\n
LOCATION:Greenville Convention Center located at 303 Greenville Blvd SW\, Greenville NC\, 27834
UID:e.840.8896
SEQUENCE:3
DTSTAMP:20260421T013914Z
URL:https://business.greenvillenc.org/events/details/ecu-2018-college-of-engineering-technology-fair-8896
END:VEVENT

END:VCALENDAR
