BEGIN:VCALENDAR
VERSION:2.0
PRODID:-//ChamberMaster//Event Calendar 2.0//EN
METHOD:PUBLISH
X-PUBLISHED-TTL:P3D
REFRESH-INTERVAL:P3D
CALSCALE:GREGORIAN
BEGIN:VEVENT
DTSTART:20190413T140000Z
DTEND:20190413T220000Z
X-MICROSOFT-CDO-ALLDAYEVENT:FALSE
SUMMARY:Easter Egg Hunt
DESCRIPTION:Hop on over to Lynndale Shoppes and join us for an Easter egg hunt Saturday\, April 13th from 10 am to 6 pm. Pictures with the Easter Bunny will be available to Type Realty Group from 12 pm to 1 pm. Join us to get in the Easter spirit! Eggs filled with goodies will be hidden at Pink a Lilly Pulitzer signature store\, VOTRE Boutique\, a Tyre Realty Group. Stop by\, shop local\, and find surprises inside Easter eggs\, like discounted VOTRE coupons!
X-ALT-DESC;FMTTYPE=text/html:Hop on over to Lynndale Shoppes and join us for an Easter egg hunt Saturday\, April 13th from 10 am to 6 pm. Pictures with the Easter Bunny will be available to Type Realty Group from 12 pm to 1 pm. Join us to get in the Easter spirit! Eggs filled with goodies will be hidden at Pink a Lilly Pulitzer signature store\, VOTRE Boutique\, a Tyre Realty Group. Stop by\, shop local\, and find surprises inside Easter eggs\, like discounted VOTRE coupons!
LOCATION:Lynndale Shoppes 511 Redbanks Rd. Greenville\, NC
UID:e.840.9781
SEQUENCE:3
DTSTAMP:20260420T173029Z
URL:https://business.greenvillenc.org/events/details/easter-egg-hunt-9781
END:VEVENT

END:VCALENDAR
