BEGIN:VCALENDAR
VERSION:2.0
PRODID:-//ChamberMaster//Event Calendar 2.0//EN
METHOD:PUBLISH
X-PUBLISHED-TTL:P3D
REFRESH-INTERVAL:P3D
CALSCALE:GREGORIAN
BEGIN:VEVENT
DTSTART;VALUE=DATE:20190416
DTEND;VALUE=DATE:20190421
TRANSP:TRANSPARENT
X-MICROSOFT-CDO-ALLDAYEVENT:TRUE
SUMMARY:Easter Dress Sale Event!
DESCRIPTION:20% off dresses in store just in time for Easter Sunday! Come grab all your spring dresses this week at a discount! Don't forget to add the perfect accessories and shoes as well! Summer hats\, statement earrings\, classic Susan Shaw pieces\, and more to compliment that perfect dress!!
X-ALT-DESC;FMTTYPE=text/html:20% off dresses in store just in time for Easter Sunday! Come grab all your spring dresses this week at a discount! Don&#39\;t forget to add the perfect accessories and shoes as well! Summer hats\, statement earrings\, classic Susan Shaw pieces\, and more to compliment that perfect dress!!&nbsp\;
LOCATION:511 Red Bank Rd Ste. F\, Greenville\, NC 27858
UID:e.840.10047
SEQUENCE:3
DTSTAMP:20260420T173832Z
URL:https://business.greenvillenc.org/events/details/easter-dress-sale-event-10047
END:VEVENT

END:VCALENDAR
