BEGIN:VCALENDAR
VERSION:2.0
PRODID:-//ChamberMaster//Event Calendar 2.0//EN
METHOD:PUBLISH
X-PUBLISHED-TTL:P3D
REFRESH-INTERVAL:P3D
CALSCALE:GREGORIAN
BEGIN:VEVENT
DTSTART:20170121T183000Z
DTEND:20170121T210000Z
X-MICROSOFT-CDO-ALLDAYEVENT:FALSE
SUMMARY:East Carolina University's Lifelong Learning Program - Spring Kickoff
DESCRIPTION:East Carolina University's Lifelong Learning Program is for adults 50 and above who want to continue learning in a relaxed atmosphere without entrance requirements\, exams or grades. Courses range anywhere from a one time workshop to semester long courses. Join us for this FREE event where we will showcase our upcoming Spring semester's courses and events\, and meet with instructors\, volunteers\, staff and other Lifelong Learning members. Refreshments and a guest speaker from North Carolina Humanities Council will also help highlight this event. Seating is limited\, so please call 252-328-9198 to register for this FREE event!
X-ALT-DESC;FMTTYPE=text/html:East Carolina University&#39\;s Lifelong Learning Program is for adults 50 and above who want to continue learning in a relaxed atmosphere without entrance requirements\, exams or grades. Courses range anywhere from a one time workshop to semester long courses. Join us for this FREE event where we will showcase our upcoming Spring semester&#39\;s courses and events\, and meet with instructors\, volunteers\, staff and other Lifelong Learning members. Refreshments and a guest speaker from North Carolina Humanities Council will also help highlight this event. Seating is limited\, so please call 252-328-9198 to register for this FREE event!
LOCATION:South Central High School 570 Forelines Rd. Winterville\, NC 28590
UID:e.840.7781
SEQUENCE:3
DTSTAMP:20260423T211018Z
URL:https://business.greenvillenc.org/events/details/east-carolina-university-s-lifelong-learning-program-spring-kickoff-7781
END:VEVENT

END:VCALENDAR
