BEGIN:VCALENDAR
VERSION:2.0
PRODID:-//ChamberMaster//Event Calendar 2.0//EN
METHOD:PUBLISH
X-PUBLISHED-TTL:P3D
REFRESH-INTERVAL:P3D
CALSCALE:GREGORIAN
BEGIN:VEVENT
DTSTART:20170422T140000Z
DTEND:20170422T180000Z
X-MICROSOFT-CDO-ALLDAYEVENT:FALSE
SUMMARY:Earth Day Celebration
DESCRIPTION:Description: Local organizations with an environmental focus will set up educational exhibits and activities for all ages throughout the park! This event is part of the NC Science Festival\, and is FREE with paid park admission or membership.
X-ALT-DESC;FMTTYPE=text/html:<span style="font-family:times new roman\,serif\; font-size:12pt">Description: </span>Local organizations with an environmental focus will set up educational exhibits and activities for all ages throughout the park! This event is part of the NC Science Festival\, and is FREE with paid park admission or membership.<br />\n<span style="font-family:times new roman\,serif\; font-size:12pt"><!--[if !supportLineBreakNewLine]--><br />\n<!--[endif]--></span>
LOCATION:500 Sylvan Heights Park Way Scotland Neck\, NC 27874
UID:e.840.8079
SEQUENCE:3
DTSTAMP:20260423T164413Z
URL:https://business.greenvillenc.org/events/details/earth-day-celebration-8079
END:VEVENT

END:VCALENDAR
