BEGIN:VCALENDAR
VERSION:2.0
PRODID:-//ChamberMaster//Event Calendar 2.0//EN
METHOD:PUBLISH
X-PUBLISHED-TTL:P3D
REFRESH-INTERVAL:P3D
CALSCALE:GREGORIAN
BEGIN:VEVENT
DTSTART:20161022T130000Z
DTEND:20161022T210000Z
X-MICROSOFT-CDO-ALLDAYEVENT:FALSE
SUMMARY:Drive For Our Troops
DESCRIPTION:TAKE THE WHEEL WITH LINCOLN: EAST CAROLINA LINCOLN AND OUR COMMUNITY TO RAISE AS MUCH AS $6\,000 FOR THE NC PACKS 4 PATRIOTS.\n\n\n\n-Exciting test-drive fundraising event will generate much-needed money for postage and shipping fees for The NC Packs 4 Patriots supporting our troops overseas.\n\n\n\nGREENVILLE\, N.C.- Over the past few years\, Lincoln dealerships across the country have partnered with The Lincoln Motor Company to support the DRIVEN TO GIVE program\, a series of events designed to help raise much needed funding for local groups. To date\, Lincoln dealerships and local communities have helped raise more than $6 million for educational and charitable organizations thanks to their hard work and partnership with the DRIVEN TO GIVE program.\n\n\n\nEast Carolina Lincoln is bringing Lincoln's DRIVEN TO GIVE program to the Greenville community in an effort to raise up to $6\,000 for THE NC PACKS 4 PATRIOTS. For every person who takes the wheel and test drives an eligible Lincoln vehicle at OVERTON'S MARINE SUPPLY store on 111 Red Banks road in Greenville on Saturday October 22 from 9:00AM to 5:00PM\, Lincoln will donate $20 to THE NC PACKS 4 PATRIOTS. For every second test-drive in the 2017 Lincoln MKZ\, Lincoln will donate an additional $20. *The funds will go for postage and shipping fees items sent to our troops overseas by The NC Packs 4 Patriots.
X-ALT-DESC;FMTTYPE=text/html:<span style="color:rgb(75\, 79\, 86)\; font-family:helvetica\,arial\,sans-serif\; font-size:14px">TAKE THE WHEEL WITH LINCOLN: EAST CAROLINA LINCOLN AND OUR COMMUNITY TO RAISE AS MUCH AS $6\,000 FOR THE NC PACKS 4 PATRIOTS.</span><br />\n<br />\n<span style="color:rgb(75\, 79\, 86)\; font-family:helvetica\,arial\,sans-serif\; font-size:14px">-Exciting test-drive fundraising event will generate much-needed money for postage and shipping fees for The NC Packs 4 Patriots supporting our troops overseas.</span><br />\n<br />\n<span style="color:rgb(75\, 79\, 86)\; font-family:helvetica\,arial\,sans-serif\; font-size:14px">GREENVILLE\, N.C.- Over the past few years\, Lincoln dealerships across the country have partnered with The Lincoln Motor Company to support the DRIVEN TO GIVE program\, a series of events designed to help raise much needed funding for local groups. To date\, Lincoln dealerships and local communities have helped raise more than $6 million for educational and charitable organizations thanks to their hard work and partnership with </span><span style="color:rgb(75\, 79\, 86)\; font-family:helvetica\,arial\,sans-serif\; font-size:14px">the&nbsp\;</span><span style="color:rgb(75\, 79\, 86)\; font-family:helvetica\,arial\,sans-serif\; font-size:14px">DRIVEN</span><span style="color:rgb(75\, 79\, 86)\; font-family:helvetica\,arial\,sans-serif\; font-size:14px"> TO GIVE program.<br />\n<br />\nEast Carolina Lincoln is bringing Lincoln&rsquo\;s DRIVEN TO GIVE program to the Greenville community in an effort to raise up to $6\,000 for THE NC PACKS 4 PATRIOTS. For every person who takes the wheel and test drives an eligible Lincoln vehicle at OVERTON&rsquo\;S MARINE SUPPLY store on 111 Red Banks road in Greenville on Saturday October 22 from 9:00AM to 5:00PM\, Lincoln will donate $20 to THE NC PACKS 4 PATRIOTS. For every second test-drive in the 2017 Lincoln MKZ\, Lincoln will donate an additional $20. *The funds will go for postage and shipping fees items sent to our troops overseas by The NC Packs 4 Patriots.</span>
LOCATION:
UID:e.840.6290
SEQUENCE:3
DTSTAMP:20260424T022322Z
URL:https://business.greenvillenc.org/events/details/drive-for-our-troops-6290
END:VEVENT

END:VCALENDAR
