BEGIN:VCALENDAR
VERSION:2.0
PRODID:-//ChamberMaster//Event Calendar 2.0//EN
METHOD:PUBLISH
X-PUBLISHED-TTL:P3D
REFRESH-INTERVAL:P3D
CALSCALE:GREGORIAN
BEGIN:VEVENT
DTSTART:20191115T230000Z
DTEND:20191116T023000Z
X-MICROSOFT-CDO-ALLDAYEVENT:FALSE
SUMMARY:Dream Factory Oyster Roast and Low County Boil
DESCRIPTION:Please join us at Tripp Farms for our Oyster Roast and Low County Boil. Purchase your tickets here! BUY NOW! SEATING IS LIMITED!\n\n \n\n\n\n\nStart the evening with oysters and as we move along\, we will introduce the low country boil and you will get your fill local shrimp!\n\n\n\n\n\n\n\nAbout this Event\n\n\n\nIf you have never eaten seafood prepared by Keyzer Catering\, you are in for a treat! We will also have entertainment and a silent auction.\n\nIn 1980\, The Dream Factory began with one all-volunteer chapter in Hopkinsville\, Kentucky. Since then\, The Dream Factory has grown into the second-largest children's wish-granting organization in the United States\, granting over 25\,000 dreams since its inception --all while maintaining a grassroots approach. The Dream Factory continues to operate all 38 of its local chapters with over 5000 very dedicated volunteers. These hard-working individuals raise funds within their own communities and then use those funds to grant the dreams of local children. Because we do not employ people on a local level\, over 90% of all money raised by The Dream Factory is used directly to grant the dreams of critically and chronically ill children.\n\nThe Dream Factory is the only children's wish-granting organization that does not limit its mission to children who have life-threatening illness. The organization believes children with chronic illnesses and disorders also suffer from substantial emotional and physical pain. We strive to provide hope and relief from the trauma and corresponding stress and depression that both the children and their families can endure on a day-to-day basis. Doctors agree that providing a dream can improve the quality of life for these children and extend the life of a critically ill child.
X-ALT-DESC;FMTTYPE=text/html:Please join us at Tripp Farms for our Oyster Roast and Low County Boil. <a href="https://www.eventbrite.com/e/dream-factorys-oyster-roast-and-low-country-boil-tickets-70328170451?fbclid=IwAR1JKpqc62bfvrRhQsPgt5PAtE76CDD1tAGuFqyWmyFPf_wRaBzwVIvq3fM">Purchase your tickets here!</a>&nbsp\;BUY NOW! SEATING IS LIMITED!<br />\n&nbsp\;\n<div>\n<div>\n<div>\n<div>\n<div>Start the evening with oysters and as we move along\, we will introduce the low country boil and you will get your fill local shrimp!</div>\n</div>\n</div>\n</div>\n</div>\n\n<div>\n<div>\n<h2>About this Event</h2>\n\n<div>\n<div>\n<p>If you have never eaten seafood prepared by Keyzer Catering\, you are in for a treat! We will also have entertainment and a silent auction.</p>\n\n<p>In 1980\, The Dream Factory began with one all-volunteer chapter in Hopkinsville\, Kentucky. Since then\, The Dream Factory has grown into the second-largest children&rsquo\;s wish-granting organization in the United States\, granting over 25\,000 dreams since its inception --all while maintaining a grassroots approach. The Dream Factory continues to operate all 38 of its local chapters with over 5000 very dedicated volunteers. These hard-working individuals raise funds within their own communities and then use those funds to grant the dreams of local children. Because we do not employ people on a local level\, over 90% of all money raised by The Dream Factory is used directly to grant the dreams of critically and chronically ill children.</p>\n\n<p>The Dream Factory is the only children&rsquo\;s wish-granting organization that does not limit its mission to children who have life-threatening illness. The organization believes children with chronic illnesses and disorders also suffer from substantial emotional and physical pain. We strive to provide hope and relief from the trauma and corresponding stress and depression that both the children and their families can endure on a day-to-day basis. Doctors agree that providing a dream can improve the quality of life for these children and extend the life of a critically ill child.</p>\n</div>\n</div>\n</div>\n</div>\n
LOCATION:TRIPP FARMS 865 Tripp Farms Lane Greenville\, NC 27834
UID:e.840.10779
SEQUENCE:3
DTSTAMP:20260420T075116Z
URL:https://business.greenvillenc.org/events/details/dream-factory-oyster-roast-and-low-county-boil-10779
END:VEVENT

END:VCALENDAR
