BEGIN:VCALENDAR
VERSION:2.0
PRODID:-//ChamberMaster//Event Calendar 2.0//EN
METHOD:PUBLISH
X-PUBLISHED-TTL:P3D
REFRESH-INTERVAL:P3D
CALSCALE:GREGORIAN
BEGIN:VEVENT
DTSTART:20170204T233000Z
DTEND:20170205T023000Z
X-MICROSOFT-CDO-ALLDAYEVENT:FALSE
SUMMARY:Dream Factory 7th Annual "Spread the Dream" Wine Tasting & Silent Auction
DESCRIPTION:"Spread the Dream" is a fundraising event to grant dreams for critically & chronically ill children living in Greenville & Eastern NC. Live music by the "Speculations"\, silent & live auction\, heavy hors d' oeuvres\, wine tasting and cash bar.
X-ALT-DESC;FMTTYPE=text/html:&quot\;Spread the Dream&quot\; is a fundraising event to grant dreams for critically &amp\; chronically ill children living in Greenville &amp\; Eastern NC. Live music by the &quot\;Speculations&quot\;\, silent &amp\; live auction\, heavy hors d&#39\; oeuvres\, wine tasting and cash bar.
LOCATION:Greenville Hilton
UID:e.840.7707
SEQUENCE:3
DTSTAMP:20260423T211734Z
URL:https://business.greenvillenc.org/events/details/dream-factory-7th-annual-spread-the-dream-wine-tasting-silent-auction-7707
END:VEVENT

END:VCALENDAR
