BEGIN:VCALENDAR
VERSION:2.0
PRODID:-//ChamberMaster//Event Calendar 2.0//EN
METHOD:PUBLISH
X-PUBLISHED-TTL:P3D
REFRESH-INTERVAL:P3D
CALSCALE:GREGORIAN
BEGIN:VEVENT
DTSTART:20190411T223000Z
DTEND:20190412T003000Z
X-MICROSOFT-CDO-ALLDAYEVENT:FALSE
SUMMARY:Dr. Wilding Presentation: The Proof Is In the PBM
DESCRIPTION:With mountains of clinical studies backing him up\, Dr. Wilding will educate us about what PBM is\, what devices we use here for treatments\, and how we KNOW it works! You don't want to miss this event!
X-ALT-DESC;FMTTYPE=text/html:With mountains of clinical studies backing him up\, Dr. Wilding will educate us about what PBM is\, what devices we use here for treatments\, and how we KNOW it works! You don&#39\;t want to miss this event!
LOCATION:Advantage Therapy Solutions 212 E. Arlington Blvd Greenville\, NC 27858
UID:e.840.9774
SEQUENCE:3
DTSTAMP:20260420T173837Z
URL:https://business.greenvillenc.org/events/details/dr-wilding-presentation-the-proof-is-in-the-pbm-9774
END:VEVENT

END:VCALENDAR
