BEGIN:VCALENDAR
VERSION:2.0
PRODID:-//ChamberMaster//Event Calendar 2.0//EN
METHOD:PUBLISH
X-PUBLISHED-TTL:P3D
REFRESH-INTERVAL:P3D
CALSCALE:GREGORIAN
BEGIN:VEVENT
DTSTART:20170430T180000Z
DTEND:20170430T220000Z
X-MICROSOFT-CDO-ALLDAYEVENT:FALSE
SUMMARY:Down East Wood Ducks vs.Winston-Salem Dash
DESCRIPTION:@Grainger Stadium
X-ALT-DESC;FMTTYPE=text/html:@Grainger Stadium
LOCATION:
UID:e.840.7799
SEQUENCE:3
DTSTAMP:20260423T181937Z
URL:https://business.greenvillenc.org/events/details/down-east-wood-ducks-vs-winston-salem-dash-04-30-2017-7799
END:VEVENT

END:VCALENDAR
