BEGIN:VCALENDAR
VERSION:2.0
PRODID:-//ChamberMaster//Event Calendar 2.0//EN
METHOD:PUBLISH
X-PUBLISHED-TTL:P3D
REFRESH-INTERVAL:P3D
CALSCALE:GREGORIAN
BEGIN:VEVENT
DTSTART:20170413T230000Z
DTEND:20170414T030000Z
X-MICROSOFT-CDO-ALLDAYEVENT:FALSE
SUMMARY:Down East Wood Ducks vs. Salem Red Sox
DESCRIPTION:Location:Grainger Stadium
X-ALT-DESC;FMTTYPE=text/html:Location:Grainger Stadium
LOCATION:
UID:e.840.7788
SEQUENCE:3
DTSTAMP:20260423T165051Z
URL:https://business.greenvillenc.org/events/details/down-east-wood-ducks-vs-salem-red-sox-7788
END:VEVENT

END:VCALENDAR
