BEGIN:VCALENDAR
VERSION:2.0
PRODID:-//ChamberMaster//Event Calendar 2.0//EN
METHOD:PUBLISH
X-PUBLISHED-TTL:P3D
REFRESH-INTERVAL:P3D
CALSCALE:GREGORIAN
BEGIN:VEVENT
DTSTART:20170415T220000Z
DTEND:20170416T020000Z
X-MICROSOFT-CDO-ALLDAYEVENT:FALSE
SUMMARY:Down East Wood Ducks vs. Salem Red Sox
DESCRIPTION:@Grainger Stadium
X-ALT-DESC;FMTTYPE=text/html:@Grainger Stadium
LOCATION:
UID:e.840.7790
SEQUENCE:3
DTSTAMP:20260423T165143Z
URL:https://business.greenvillenc.org/events/details/down-east-wood-ducks-vs-salem-red-sox-04-15-2017-7790
END:VEVENT

END:VCALENDAR
