BEGIN:VCALENDAR
VERSION:2.0
PRODID:-//ChamberMaster//Event Calendar 2.0//EN
METHOD:PUBLISH
X-PUBLISHED-TTL:P3D
REFRESH-INTERVAL:P3D
CALSCALE:GREGORIAN
BEGIN:VEVENT
DTSTART:20170422T220000Z
DTEND:20170423T020000Z
X-MICROSOFT-CDO-ALLDAYEVENT:FALSE
SUMMARY:Down East Wood Ducks vs. Myrtle Beach Pelicans
DESCRIPTION:@Grainger Stadium
X-ALT-DESC;FMTTYPE=text/html:@Grainger Stadium
LOCATION:
UID:e.840.7795
SEQUENCE:3
DTSTAMP:20260423T165055Z
URL:https://business.greenvillenc.org/events/details/down-east-wood-ducks-vs-myrtle-beach-pelicans-04-22-2017-7795
END:VEVENT

END:VCALENDAR
