BEGIN:VCALENDAR
VERSION:2.0
PRODID:-//ChamberMaster//Event Calendar 2.0//EN
METHOD:PUBLISH
X-PUBLISHED-TTL:P3D
REFRESH-INTERVAL:P3D
CALSCALE:GREGORIAN
BEGIN:VEVENT
DTSTART:20170421T230000Z
DTEND:20170422T030000Z
X-MICROSOFT-CDO-ALLDAYEVENT:FALSE
SUMMARY:Down East Wood Ducks vs. Myrtle Beach Pelicans
DESCRIPTION:@Grainger Stadium
X-ALT-DESC;FMTTYPE=text/html:@Grainger Stadium
LOCATION:
UID:e.840.7794
SEQUENCE:3
DTSTAMP:20260423T182107Z
URL:https://business.greenvillenc.org/events/details/down-east-wood-ducks-vs-myrtle-beach-pelicans-04-21-2017-7794
END:VEVENT

END:VCALENDAR
