BEGIN:VCALENDAR
VERSION:2.0
PRODID:-//ChamberMaster//Event Calendar 2.0//EN
METHOD:PUBLISH
X-PUBLISHED-TTL:P3D
REFRESH-INTERVAL:P3D
CALSCALE:GREGORIAN
BEGIN:VEVENT
DTSTART:20170410T230000Z
DTEND:20170411T030000Z
X-MICROSOFT-CDO-ALLDAYEVENT:FALSE
SUMMARY:Down East Wood Ducks Home Opener
DESCRIPTION:The Down East Wood Ducks play the Winston-Salem Dash at 7 pm.
X-ALT-DESC;FMTTYPE=text/html:The Down East Wood Ducks play the Winston-Salem Dash at 7 pm.
LOCATION:
UID:e.840.7785
SEQUENCE:3
DTSTAMP:20260423T165051Z
URL:https://business.greenvillenc.org/events/details/down-east-wood-ducks-home-opener-7785
END:VEVENT

END:VCALENDAR
