BEGIN:VCALENDAR
VERSION:2.0
PRODID:-//ChamberMaster//Event Calendar 2.0//EN
METHOD:PUBLISH
X-PUBLISHED-TTL:P3D
REFRESH-INTERVAL:P3D
CALSCALE:GREGORIAN
BEGIN:VEVENT
DTSTART:20170403T230000Z
DTEND:20170404T030000Z
X-MICROSOFT-CDO-ALLDAYEVENT:FALSE
SUMMARY:Down East Wood Ducks Exhibition Game versus UMO
DESCRIPTION:Down East Wood Ducks Exhibition Game will be held at Grainger Stadium at 7 pm against Mount Olive University. This will be the first game ever played by the Wood Ducks.
X-ALT-DESC;FMTTYPE=text/html:Down East Wood Ducks Exhibition Game will be held at Grainger Stadium at 7 pm against Mount Olive University. This will be the first game ever played by the Wood Ducks.
LOCATION:
UID:e.840.7784
SEQUENCE:3
DTSTAMP:20260423T165056Z
URL:https://business.greenvillenc.org/events/details/down-east-wood-ducks-exhibition-game-versus-umo-7784
END:VEVENT

END:VCALENDAR
