BEGIN:VCALENDAR
VERSION:2.0
PRODID:-//ChamberMaster//Event Calendar 2.0//EN
METHOD:PUBLISH
X-PUBLISHED-TTL:P3D
REFRESH-INTERVAL:P3D
CALSCALE:GREGORIAN
BEGIN:VEVENT
DTSTART:20180216T220000Z
DTEND:20180217T000000Z
X-MICROSOFT-CDO-ALLDAYEVENT:FALSE
SUMMARY:Down East Her-icanes Women's Tackle Football Meeting
DESCRIPTION:The Down East Her-icanes\, a Women's Tackle Football team is recruiting players 16 and older to for the 2019 season. If you have a passion for football and always wanted to play\, come join us for an informal meet and greet
X-ALT-DESC;FMTTYPE=text/html:The <strong>Down East Her-icanes\,</strong>&nbsp\;a Women&#39\;s Tackle Football team is recruiting players 16 and older to for the 2019 season. If you have a passion for football and always wanted to play\, come join us for an informal meet and greet
LOCATION:Fire American Tavern\, 113 E 5th Street\, Greenville\,NC 27858
UID:e.840.8718
SEQUENCE:3
DTSTAMP:20260423T020125Z
URL:https://business.greenvillenc.org/events/details/down-east-her-icanes-women-s-tackle-football-meeting-8718
END:VEVENT

END:VCALENDAR
