BEGIN:VCALENDAR
VERSION:2.0
PRODID:-//ChamberMaster//Event Calendar 2.0//EN
METHOD:PUBLISH
X-PUBLISHED-TTL:P3D
REFRESH-INTERVAL:P3D
CALSCALE:GREGORIAN
BEGIN:VEVENT
DTSTART;VALUE=DATE:20161007
DTEND;VALUE=DATE:20161008
TRANSP:TRANSPARENT
X-MICROSOFT-CDO-ALLDAYEVENT:TRUE
SUMMARY:DOMESTIC VIOLENCE AWARENESS FUNDRAISER
DESCRIPTION:In an effort to support the CENTER FOR FAMILY VIOLENCE PREVENTION (C4FVP) and their works to aid victims of Domestic Violence\, Shea Be Natural will be donating 50% off ALL proceeds from the entire days sales on Friday\, October 7th 2016. We invite you to come out and help support the cause as every purchase will count! We will have representatives from the C4FVP on site to give information or help as/if needed. We will have extended hours of 10am-8pm on this day.
X-ALT-DESC;FMTTYPE=text/html:<span style="font-family:verdana">In an effort to support the CENTER FOR FAMILY VIOLENCE PREVENTION (C4FVP) and their works to aid victims of Domestic Violence\, Shea Be Natural will be donating 50% off ALL proceeds from the entire days sales on Friday\, October 7th 2016. We invite you to come out and help support the cause as every purchase will count! We will have representatives from the C4FVP on site to give information or help as/if needed. We will have extended hours of 10am-8pm on this day.</span>
LOCATION:SHEA BE NATURAL 415 EVANS STREET GREENVILLE NC 27858
UID:e.840.5841
SEQUENCE:3
DTSTAMP:20260424T010340Z
URL:https://business.greenvillenc.org/events/details/domestic-violence-awareness-fundraiser-5841
END:VEVENT

END:VCALENDAR
