BEGIN:VCALENDAR
VERSION:2.0
PRODID:-//ChamberMaster//Event Calendar 2.0//EN
METHOD:PUBLISH
X-PUBLISHED-TTL:P3D
REFRESH-INTERVAL:P3D
CALSCALE:GREGORIAN
BEGIN:VEVENT
DTSTART:20190519T200000Z
DTEND:20190520T000000Z
X-MICROSOFT-CDO-ALLDAYEVENT:FALSE
SUMMARY:Dinner on the Grounds
DESCRIPTION:The father\, a legendary foodie and beloved NC barbecue guru. The son\, newly established leader of Third Street Catering. Dinner on the Grounds will bring them both together in celebration of God's power to redeem. Join us for an unforgettable event at Third Street!\n\n\n	\n	Great Stories and Fellowship\n	\n	\n	A Showcase of Third Street - Academy\, Business and Community\n	\n	\n	Eastern NC BBQ\n	\n	\n	Live Praise and Worship Music
X-ALT-DESC;FMTTYPE=text/html:<h3>The father\, a legendary foodie and beloved NC barbecue guru. The son\, newly established leader of Third Street Catering. Dinner on the Grounds will bring them both together in celebration of God&#39\;s power to redeem. Join us for an unforgettable event at Third Street!</h3>\n\n<ul>\n	<li>\n	<h3>Great Stories and Fellowship</h3>\n	</li>\n	<li>\n	<h3>A Showcase of Third Street - Academy\, Business and Community</h3>\n	</li>\n	<li>\n	<h3>Eastern NC BBQ</h3>\n	</li>\n	<li>\n	<h3>Live Praise and Worship Music</h3>\n	</li>\n</ul>\n
LOCATION:Third Street Education Center 600 W 3rd Street Greenville\, NC 27834
UID:e.840.9776
SEQUENCE:3
DTSTAMP:20260420T162554Z
URL:https://business.greenvillenc.org/events/details/dinner-on-the-grounds-9776
END:VEVENT

END:VCALENDAR
