BEGIN:VCALENDAR
VERSION:2.0
PRODID:-//ChamberMaster//Event Calendar 2.0//EN
METHOD:PUBLISH
X-PUBLISHED-TTL:P3D
REFRESH-INTERVAL:P3D
CALSCALE:GREGORIAN
BEGIN:VEVENT
DTSTART:20190517T223000Z
DTEND:20190518T010000Z
X-MICROSOFT-CDO-ALLDAYEVENT:FALSE
SUMMARY:Daughters of Worth- Glam & Glitter Gala
DESCRIPTION:It is with great excitement that we announce that on Friday\, May 17\, 2019 at 6:30pm\, Daughters of Worth will hold its' inaugural GLAM & Glitter Gala at the Greenville\, NC Hilton! This special event will feature a cash bar\, delicious dinner\, silent auction\, and powerful Keynote speaker\, Ainee Lynnette Taylor (Former WITN Journalist)! In addition\, during this special evening\, several of our GLAM girls (Girls Living a Mission) will be recognized for earning the GLAM girl of the year and high school participants will receive our very first scholarship awards!\n\nIn 2015\, Daughters of Worth was founded with a mission and vision to educate\, equip\, and empower girls of all ages to become strong women of influence in their communities. Beginning with only 12 middle/high school girls\, the need for Daughters of Worth became increasingly evident\, which today has allowed us to serve over 1\,000 girls each month through our six signature programs in 4 counties of Eastern NC!
X-ALT-DESC;FMTTYPE=text/html:<p>It is with great excitement that we announce that on Friday\, May 17\, 2019 at 6:30pm\, Daughters of Worth will hold its&rsquo\; inaugural GLAM &amp\; Glitter Gala at the Greenville\, NC Hilton! This special event will feature a cash bar\, delicious dinner\, silent auction\, and powerful Keynote speaker\, Ainee Lynnette Taylor (Former WITN Journalist)! In addition\, during this special evening\, several of our GLAM girls (Girls Living a Mission) will be recognized for earning the GLAM girl of the year and high school participants will receive our very first scholarship awards!</p>\n\n<p>In 2015\, Daughters of Worth was founded with a mission and vision to educate\, equip\, and empower girls of all ages to become strong women of influence in their communities. Beginning with only 12 middle/high school girls\, the need for Daughters of Worth became increasingly evident\, which today has allowed us to serve over 1\,000 girls each month through our six signature programs in 4 counties of Eastern NC!</p>\n
LOCATION:Greenville\, NC Hilton 207 SW Greenville Blvd Greenville\, NC
UID:e.840.9765
SEQUENCE:3
DTSTAMP:20260420T163011Z
URL:https://business.greenvillenc.org/events/details/daughters-of-worth-glam-glitter-gala-9765
END:VEVENT

END:VCALENDAR
