BEGIN:VCALENDAR
VERSION:2.0
PRODID:-//ChamberMaster//Event Calendar 2.0//EN
METHOD:PUBLISH
X-PUBLISHED-TTL:P3D
REFRESH-INTERVAL:P3D
CALSCALE:GREGORIAN
BEGIN:VEVENT
DTSTART:20180517T220000Z
DTEND:20180518T010000Z
X-MICROSOFT-CDO-ALLDAYEVENT:FALSE
SUMMARY:Daughters of Worth: Because She Matters Gala
DESCRIPTION:Daughters of Worth presents its inaugural Because She Matters Gala!\n\nCome and join us for a fun-filled night of delicious food\, laughter\, cash bar\, silent auction (Grace Gifts - items made by the girls of Daughters of Worth) - and enjoy our powerful\, joy-filled speaker\, Teresa Allen of Merry Heart Ministries!\n\n\n\nThis exciting event will be held at the beautiful Arts of the Pamlico Turnage Theatre in Washington and will provide attendees the opportunity to enjoy an evening of learning more about Daughters of Worth and how we are currently serving approximately 300 girls each month in Pitt and Beaufort County through GLAM (Girls Living a mission) mentorship and Notes of Hope!  Be among the first to discover how we are soon launching programs in additional counties throughout 2018!\n\n\n\nTickets are available now and are only $35.00 each and can be purchased on Eventbrite here:\n\nhttps://www.eventbrite.com/e/daughters-of-worth-because-she-matters-gala-tickets-43663302112?aff=efbeventtix
X-ALT-DESC;FMTTYPE=text/html:Daughters of Worth presents its inaugural Because She Matters Gala!<br />\nCome and join us for a fun-filled night of delicious food\, laughter\, cash bar\, silent auction (Grace Gifts - items made by the girls of Daughters of Worth) - and enjoy our powerful\, joy-filled speaker\, Teresa Allen of Merry Heart Ministries!<br />\n<br />\nThis exciting event will be held at the beautiful Arts of the Pamlico Turnage Theatre in Washington and will provide attendees the opportunity to enjoy an evening of learning more about Daughters of Worth and how we are currently serving approximately 300 girls each month in Pitt and Beaufort County through GLAM (Girls Living a mission) mentorship and Notes of Hope!&nbsp\; Be among the first to discover how we are soon launching programs in additional counties throughout 2018!<br />\n<br />\nTickets are available now and are only $35.00 each and can be purchased on Eventbrite here:<br />\nhttps://www.eventbrite.com/e/daughters-of-worth-because-she-matters-gala-tickets-43663302112?aff=efbeventtix<br />\n&nbsp\;
LOCATION:Arts of the Pamlico Turnage Theatre 150 W. Main St. Washngton\, NC 27889
UID:e.840.8745
SEQUENCE:3
DTSTAMP:20260421T090139Z
URL:https://business.greenvillenc.org/events/details/daughters-of-worth-because-she-matters-gala-8745
END:VEVENT

END:VCALENDAR
