BEGIN:VCALENDAR
VERSION:2.0
PRODID:-//ChamberMaster//Event Calendar 2.0//EN
METHOD:PUBLISH
X-PUBLISHED-TTL:P3D
REFRESH-INTERVAL:P3D
CALSCALE:GREGORIAN
BEGIN:VEVENT
DTSTART;VALUE=DATE:20171128
DTEND;VALUE=DATE:20171129
TRANSP:TRANSPARENT
X-MICROSOFT-CDO-ALLDAYEVENT:TRUE
SUMMARY:Dance for Peace
DESCRIPTION:Here in America\, we have widely recognized shopping events like Black Friday and Cyber Monday to kick off the holidays\; #GivingTuesday enhances the giving season and inspires people to collaborate in improving their local communities and to give back in impactful ways to the charities and causes they support. With that in mind\, please join the Mediation Center for our Dance for Peace Fundraiser on Giving Tuesday.  Get your family\, friends\, and co-workers\, to join you or pledge a donation to support you as you dance for peace!  \n\n\n\nOn Tuesday\, November\, 28th come by our office (located at 200 Eastbrook Drive\, Suite A)\, during the following hours and DANCE: 9-10am\; 12-1pm\, or 4-5pm.\n\n\n\nTo register and for more information\, CLICK HERE!
X-ALT-DESC;FMTTYPE=text/html:Here in America\, we have widely recognized shopping events like&nbsp\;<strong>Black&nbsp\;Friday</strong>&nbsp\;and&nbsp\;<strong>Cyber&nbsp\;Monday</strong>&nbsp\;to kick off the holidays\;&nbsp\;<strong>#GivingTuesday</strong>&nbsp\;enhances the giving season and inspires people to collaborate in improving their local communities and to give back in impactful ways to the charities and causes they support. With that in mind\, p<span style="color:windowtext">lease join the Mediation Center for our&nbsp\;<strong><em>Dance for Peace Fundraiser</em></strong>&nbsp\;on Giving&nbsp\;Tuesday.&nbsp\; Get your family\, friends\, and co-workers\, to join you or pledge a donation to support you as you dance for peace!&nbsp\;&nbsp\;</span><br />\n<br />\n<span style="background-color:rgb(255\, 255\, 255)\; font-family:arial\,sans-serif\; font-size:small">On Tuesday\, November\, 28th come by our office (located at&nbsp\;</span><strong>200 Eastbrook Drive\, Suite A)</strong><span style="background-color:rgb(255\, 255\, 255)\; font-family:arial\,sans-serif\; font-size:small">\, during the following hours and <strong>DANCE</strong>:&nbsp\;9-10am\; 12-1pm\, or 4-5pm.<br />\n<br />\nTo register and for more information\,<a href="https://www.eventbrite.com/e/mediation-center-of-eastern-carolina-presents-dance-for-peace-fundraiser-registration-39731925258"> CLICK HERE!</a></span>\n<div>&nbsp\;</div>\n\n<div>&nbsp\;</div>\n
LOCATION:Pitt/Greenville MCEC Office 200 Eastbrook Drive Suite A Greenville\, NC 27858
UID:e.840.8682
SEQUENCE:3
DTSTAMP:20260423T062508Z
URL:https://business.greenvillenc.org/events/details/dance-for-peace-8682
END:VEVENT

END:VCALENDAR
