BEGIN:VCALENDAR
VERSION:2.0
PRODID:-//ChamberMaster//Event Calendar 2.0//EN
METHOD:PUBLISH
X-PUBLISHED-TTL:P3D
REFRESH-INTERVAL:P3D
CALSCALE:GREGORIAN
BEGIN:VEVENT
DTSTART:20181127T140000Z
DTEND:20181127T220000Z
X-MICROSOFT-CDO-ALLDAYEVENT:FALSE
SUMMARY:Dance for Peace
DESCRIPTION:The Mediation Center of Eastern Carolina (MCEC) is hosting a Dance for Peace fundraiser in honor of #GivingTuesday. #GivingTuesday is a movement to create an international day of giving at the beginning of the holiday season.The hope/goal of this day is to inspire people to collaborate in improving their local communities and to give back in impactful ways to the charities and causes they support. With that in mind\, please join the Mediation Center for our Dance for Peace Fundraiser on Giving Tuesday.  Get your family\, friends\, and co-workers\, to join you or pledge a donation to support you as you dance for peace!  \n\n\n\nAll are welcome to come dance\, learn more about our agency/services\, or just network with us.\n\n\n\nThe suggested donation/pledge is $10/hour\, but any amount will be accepted and appreciated.
X-ALT-DESC;FMTTYPE=text/html:<span style="font-size:14px">The Mediation Center of Eastern Carolina (MCEC) is hosting a Dance for Peace fundraiser in honor of #GivingTuesday. #GivingTuesday is a movement to create an international day of giving at the beginning of the holiday season.The hope/goal of this day is to&nbsp\;<span style="background-color:rgb(255\, 255\, 255)\; font-family:arial\,helvetica\,sans-serif">inspire people to collaborate in improving their local communities and to give back in impactful ways to the charities and causes they support. With that in mind\, p</span><span style="font-family:arial\,helvetica\,sans-serif">lease join the Mediation Center for our&nbsp\;<span style="font-family:inherit"><em>Dance for Peace Fundraiser</em></span>&nbsp\;on Giving&nbsp\;Tuesday.&nbsp\; Get your family\, friends\, and co-workers\, to join you or pledge a donation to support you as you dance for peace!&nbsp\;</span><span style="color:windowtext\; font-family:arial\,helvetica\,sans-serif">&nbsp\;</span><br />\n<br />\nAll are welcome to come dance\, learn more about our agency/services\, or just network with us.</span><br />\n<br />\nThe suggested donation/pledge is $10/hour\, but any amount will be accepted and appreciated.
LOCATION:200-A Eastbrook Drive\, Greenville\, NC 27858
UID:e.840.8946
SEQUENCE:3
DTSTAMP:20260421T000758Z
URL:https://business.greenvillenc.org/events/details/dance-for-peace-11-27-2018-8946
END:VEVENT

END:VCALENDAR
