BEGIN:VCALENDAR
VERSION:2.0
PRODID:-//ChamberMaster//Event Calendar 2.0//EN
METHOD:PUBLISH
X-PUBLISHED-TTL:P3D
REFRESH-INTERVAL:P3D
CALSCALE:GREGORIAN
BEGIN:VEVENT
DTSTART:20200207T220000Z
DTEND:20200208T000000Z
X-MICROSOFT-CDO-ALLDAYEVENT:FALSE
SUMMARY:Cruise For A Cause
DESCRIPTION:Join us as we benefit Daughters of Worth. Raffle for a FREE CRUISE GIVEAWAY and $200 VOTRE GIFT CARD!\n\nFriday\, February 7th from 5pm - 7pm!
X-ALT-DESC;FMTTYPE=text/html:Join us as we benefit Daughters of Worth. Raffle for a FREE CRUISE GIVEAWAY and $200 VOTRE GIFT CARD!<br />\nFriday\, February 7th from 5pm - 7pm!
LOCATION:Votre Boutique 511 Red Banks Road Greenville\, NC 27858
UID:e.840.10991
SEQUENCE:3
DTSTAMP:20260420T030658Z
URL:https://business.greenvillenc.org/events/details/cruise-for-a-cause-10991
END:VEVENT

END:VCALENDAR
