BEGIN:VCALENDAR
VERSION:2.0
PRODID:-//ChamberMaster//Event Calendar 2.0//EN
METHOD:PUBLISH
X-PUBLISHED-TTL:P3D
REFRESH-INTERVAL:P3D
CALSCALE:GREGORIAN
BEGIN:VEVENT
DTSTART;VALUE=DATE:20180521
DTEND;VALUE=DATE:20180522
TRANSP:TRANSPARENT
X-MICROSOFT-CDO-ALLDAYEVENT:TRUE
SUMMARY:Crime Stoppers Golf Tournament
DESCRIPTION:MIKE BOSTICE- PGV CRIME STOPPERS ANNUAL GOLF TOURNAMENT \n\nPitt-Greenville Crime Stoppers is hosting its annual fund raiser golf tournament on May 21 at Brook Valley Country Club. This is our principle fund raising activity for the year. We hope that Chamber members and affiliates will support this event for the important role Crime Stoppers plays in keeping Pitt County safe. A highlight of the tournament is the golf cart race between top law enforcement officials (Sheriff and Police Chiefs) in Pitt County. \n\n\n\n1) The cost of participation is $500 per team.\n\n\n\n2) Each year we invite teams of law enforcement officers from throughout Pitt County enjoy a complimentary day of golf in appreciation for the work they do. The winning team is awarded the "Crimee Cup" which they can proudly display at their agency. Although the officers play free\, we are encouraging businesses and organizations to sponsor a law enforcement team for a $250 donation. \n\n\n\n3) Any individual or organization who wishes to be a hole sponsor (a flag with your organization's name placed on one of the greens) is asked to donate $100.
X-ALT-DESC;FMTTYPE=text/html:MIKE BOSTICE- PGV CRIME STOPPERS ANNUAL GOLF TOURNAMENT&nbsp\;<br />\nPitt-Greenville Crime Stoppers is hosting its annual fund raiser golf tournament on May 21 at Brook Valley Country Club. This is our principle fund raising activity for the year. We hope that Chamber members and affiliates will support this event for the important role Crime Stoppers plays in keeping Pitt County safe. A highlight of the tournament is the golf cart race between top law enforcement officials (Sheriff and Police Chiefs) in Pitt County.&nbsp\;<br />\n<br />\n1) The cost of participation is <strong>$500 per team</strong>.<br />\n<br />\n2) Each year we invite teams of law enforcement officers from throughout Pitt County enjoy a complimentary day of golf in appreciation for the work they do. The winning team is awarded the &quot\;Crimee Cup&quot\; which they can proudly display at their agency. Although the officers play free\, we are encouraging businesses and organizations to <strong>sponsor a law enforcement team for a $250 donation</strong>.&nbsp\;<br />\n<br />\n3) Any individual or organization who wishes to be a <strong>hole sponsor</strong> (a flag with your organization&#39\;s name placed on one of the greens) is asked to<strong> donate $100. </strong><br />\n<br />\n&nbsp\;
LOCATION:Brook Valley Country Club\, Greenville NC
UID:e.840.8740
SEQUENCE:3
DTSTAMP:20260421T090214Z
URL:https://business.greenvillenc.org/events/details/crime-stoppers-golf-tournament-8740
END:VEVENT

END:VCALENDAR
