BEGIN:VCALENDAR
VERSION:2.0
PRODID:-//ChamberMaster//Event Calendar 2.0//EN
METHOD:PUBLISH
X-PUBLISHED-TTL:P3D
REFRESH-INTERVAL:P3D
CALSCALE:GREGORIAN
BEGIN:VEVENT
DTSTART;VALUE=DATE:20170429
DTEND;VALUE=DATE:20170430
TRANSP:TRANSPARENT
X-MICROSOFT-CDO-ALLDAYEVENT:TRUE
SUMMARY:Crime Stoppers Fund Raiser/Farmville Dogwood Festival
DESCRIPTION:Pitt Greenville Crime Stoppers will have a booth at the Farmville Dogwood Festival on April 29 starting at 9:00 a.m. Festival attendees can obtain a Crime Stoppers t-shirt with a $20 donation. Those who donate can join our email distribution list as an "honorary crime stopper" and receive updates and information on Crime Stoppers activity throughout Pitt County. All donations are welcome. Attendees are encouraged to stop by the Pitt Greenville Crime Stoppers booth to get more information.
X-ALT-DESC;FMTTYPE=text/html:Pitt Greenville Crime Stoppers will have a booth at the Farmville Dogwood Festival on April 29 starting at 9:00 a.m. Festival attendees can obtain a Crime Stoppers t-shirt with a $20 donation. Those who donate can join our email distribution list as an &quot\;honorary crime stopper&quot\; and receive updates&nbsp\;and information on Crime Stoppers activity throughout Pitt County. All donations are welcome.&nbsp\;Attendees are encouraged to stop by the Pitt Greenville Crime Stoppers booth to get more information. &nbsp\;
LOCATION:Farmville Town Common
UID:e.840.8083
SEQUENCE:3
DTSTAMP:20260423T165418Z
URL:https://business.greenvillenc.org/events/details/crime-stoppers-fund-raiser-farmville-dogwood-festival-8083
END:VEVENT

END:VCALENDAR
