BEGIN:VCALENDAR
VERSION:2.0
PRODID:-//ChamberMaster//Event Calendar 2.0//EN
METHOD:PUBLISH
X-PUBLISHED-TTL:P3D
REFRESH-INTERVAL:P3D
CALSCALE:GREGORIAN
BEGIN:VEVENT
DTSTART;VALUE=DATE:20170228
DTEND;VALUE=DATE:20170401
TRANSP:TRANSPARENT
X-MICROSOFT-CDO-ALLDAYEVENT:TRUE
SUMMARY:Crave March Specials
DESCRIPTION:Monday: Baked Lasagna Drink- Martini (Absolut) $ 6 Absolut Lime Mojitos (Possibly) $3.50 Sangria $5 Beer Magic hat $2 Wine   price wine glass   price select wine bottles \n\n\n\nTuesday: Taco Tuesday Shot- Altos Single (gold or silver) $4 Drink- Margarita   Price Beer- Corona and Corona Light $3 Loaded Corona $5.50 Oculto $2.50 (while supplies last) \n\n\n\n Wednesday- Mug DAY: Crab Cakes Shot- Well Singles $2 Drink- Mules $3 Beer- Crave Lager pints $1 Crave Lager Pitcher $5 Fall Seasonal (while Supplies last) $2 Thursday: Reuben Burger Shot: Double Whiskey $4 Drink: Absolut Lime Mojitos (Possibly) $3.50 Beer: Blue moon Draft $2.50\n\n\n\n Friday: Blacked Salmon w/ blue cheese sauce Shot- Fireball $3 Vodka Doubles $4 Drink- Long Island Iced tea $5 Beer- Crave Lager Pints $1 Killian's Red $1.75 Wine- Woodbridge Pinot Grigio $2 \n\n\n\nSaturday: Shot- Well Doubles $5 Kamikaze shot $4.50 Drink- Bahama Mamas $5 Blue Motorcycle $6 Beer- PBR Bottle $2 Draft Beer $1 off Oculto\, Oarsman\, Orta Vez $2.50 (while supplies last) Bell's two-hearted bottles $4
X-ALT-DESC;FMTTYPE=text/html:Monday: Baked Lasagna Drink- Martini (Absolut) $ 6 Absolut Lime Mojitos (Possibly) $3.50 Sangria $5 Beer Magic hat $2 Wine &frac12\; price wine glass &frac12\; price select wine bottles&nbsp\;<br />\n<br />\nTuesday: Taco Tuesday Shot- Altos Single (gold or silver) $4 Drink- Margarita &frac12\; Price Beer- Corona and Corona Light $3 Loaded Corona $5.50 Oculto $2.50 (while supplies last)&nbsp\;<br />\n<br />\n&nbsp\;Wednesday- Mug DAY: Crab Cakes Shot- Well Singles $2 Drink- Mules $3 Beer- Crave Lager pints $1 Crave Lager Pitcher $5 Fall Seasonal (while Supplies last) $2 Thursday: Reuben Burger Shot: Double Whiskey $4 Drink: Absolut Lime Mojitos (Possibly) $3.50 Beer: Blue moon Draft $2.50<br />\n<br />\n&nbsp\;Friday: Blacked Salmon w/ blue cheese sauce Shot- Fireball $3 Vodka Doubles $4 Drink- Long Island Iced tea $5 Beer- Crave Lager Pints $1 Killian&rsquo\;s Red $1.75 Wine- Woodbridge Pinot Grigio $2&nbsp\;<br />\n<br />\n<span style="font-family:times new roman\,serif"><span style="font-size:12.0pt">Saturday: Shot- Well Doubles $5 Kamikaze shot $4.50 Drink- Bahama Mamas $5 Blue Motorcycle $6 Beer- PBR Bottle $2 Draft Beer $1 off Oculto\, Oarsman\, Orta Vez $2.50 (while supplies last) Bell&rsquo\;s two-hearted bottles $4</span></span>
LOCATION:
UID:e.840.8065
SEQUENCE:3
DTSTAMP:20260423T181311Z
URL:https://business.greenvillenc.org/events/details/crave-march-specials-8065
END:VEVENT

END:VCALENDAR
