BEGIN:VCALENDAR
VERSION:2.0
PRODID:-//ChamberMaster//Event Calendar 2.0//EN
METHOD:PUBLISH
X-PUBLISHED-TTL:P3D
REFRESH-INTERVAL:P3D
CALSCALE:GREGORIAN
BEGIN:VEVENT
DTSTART:20170429T130000Z
DTEND:20170429T160000Z
X-MICROSOFT-CDO-ALLDAYEVENT:FALSE
SUMMARY:Counter Culture Coffee Celebration & Sampling at The Market @ Coastal Fog
DESCRIPTION:Mark your calendars for The Counter Culture Coffee Celebration and Sampling at The Market @ Coastal Fog on Saturday\, April 29 at 9 am til 12 pm. Special guest and US Barista Champion\, Lem Butler\, will be joining the event. No ticket needed for this event. Come gather\, sip\, and savor with us!
X-ALT-DESC;FMTTYPE=text/html:Mark your calendars for The Counter Culture Coffee Celebration and Sampling at The Market @ Coastal Fog on Saturday\, April 29 at 9 am til 12 pm. Special guest and US Barista Champion\, Lem Butler\, will be joining the event. No ticket needed for this event. Come gather\, sip\, and savor with us!
LOCATION:The Market @ Coastal Fog 330 Evans St. Greenville\, NC 27858
UID:e.840.8091
SEQUENCE:3
DTSTAMP:20260423T165305Z
URL:https://business.greenvillenc.org/events/details/counter-culture-coffee-celebration-sampling-at-the-market-coastal-fog-04-29-2017-8091
END:VEVENT

END:VCALENDAR
