BEGIN:VCALENDAR
VERSION:2.0
PRODID:-//ChamberMaster//Event Calendar 2.0//EN
METHOD:PUBLISH
X-PUBLISHED-TTL:P3D
REFRESH-INTERVAL:P3D
CALSCALE:GREGORIAN
BEGIN:VEVENT
DTSTART:20191027T180000Z
DTEND:20191027T220000Z
X-MICROSOFT-CDO-ALLDAYEVENT:FALSE
SUMMARY:Costumes for a Cure
DESCRIPTION:Sign up here!\n\n\n\nPLACE\n\n105 E 1st St\n\nGreenville\, NC US 27858\n\n \n\n\n\nDESCRIPTION\n\nWe are hosting our second annual COSTUME-THEMED event with a timed 5k\, fun run and family walk on a course through the Greenway in downtown Greenville.  Run or walk in your most creative costume and win a prize in one of several categories. Pets and strollers are welcome!  The proceeds from this event will be donated to help fund the development of a clinical trial for pediatric brain cancer at the McKnight Brain Institute\, University of Florida.  10% of proceeds will remain within the Greenville Community to provide resources for teens diagnosed with cancer.\n\n\nRally for Ally was formed by Mike and Kelly Hart in 2015 in honor of their daughter\, Allyson\, after her battle with a rare brain tumor called an ependymoma.  Since then we have raised $45\,000 for pediatric brain cancer research.   We are a charitable fund under the sponsorship of the Community Foundation of NC East\, a 501 (c)(3) organization.  Donations to our mission are tax deductible.\n\nLearn more about us and our mission at  www.rallyforally.org.  Follow us on Facebook\, @rallyforally2014\, and Instagram\, /rallyforally2014\n\nRegistration Fees/Dates/Categories:\n\nRegistration fee is $25 for the 5k\, increasing to $30 on 10/7/19. T-shirt is included for registrations received by 10/15.\n\nThe fun run/walk registration is $15.  T-shirt is included for registrations received by 10/15.\n\n\n\nAwards/Categories:\n\nTop 1 M & F overall\, Top 1 M & F in age groups: 12 & under\, 13-19\, 20-29\, 30-39\, 40-49\, 50-59\, 60-69\, 70+. \n\nCourse:\n\nThe course will be through the Greenway\, downtown Greenville.\n\n \n\nRACE CONTACT INFO\n\nIf you have any questions about this race\, click below.\n\n\nQUESTIONS?
X-ALT-DESC;FMTTYPE=text/html:<div>\n<div><strong><a href="https://runsignup.com/Race/NC/Greenville/CostumesforaCure">Sign up here!</a></strong><br />\n<br />\n<strong>PLACE</strong></div>\n\n<div>105 E 1st St<br />\nGreenville\, NC US 27858<br />\n&nbsp\;</div>\n</div>\n\n<div>\n<div><strong>DESCRIPTION</strong><br />\nWe are hosting our second annual&nbsp\;<strong>COSTUME-THEMED</strong>&nbsp\;event with a timed 5k\, fun run and family walk on a course through the Greenway in downtown Greenville.&nbsp\; Run or walk in your most creative costume and win a prize in one of several categories. Pets and strollers are welcome!&nbsp\; The proceeds from this event will be donated to help fund the development of a clinical trial for pediatric brain cancer at the McKnight Brain Institute\, University of Florida.&nbsp\; 10% of proceeds will remain within the Greenville Community to provide resources for teens diagnosed with cancer.</div>\n\n<div>\n<p>Rally for Ally was formed by Mike and Kelly Hart in 2015 in honor of their daughter\, Allyson\, after her battle with a rare brain tumor called an ependymoma.&nbsp\; Since then we have raised $45\,000 for pediatric brain cancer research.&nbsp\; &nbsp\;We are a charitable fund under the sponsorship of the Community Foundation of NC East\, a 501 (c)(3) organization.&nbsp\; Donations to our mission are tax deductible.</p>\n\n<p>Learn more about us and our mission at&nbsp\;&nbsp\;<a href="http://www.rallyforally.org/" rel="noopener noreferrer" target="_blank">www.rallyforally.org.&nbsp\;&nbsp\;</a>Follow us on Facebook\, @rallyforally2014\, and Instagram\, /rallyforally2014</p>\n\n<p><strong>Registration Fees/Dates/Categories:</strong><br />\nRegistration fee is $25 for the 5k\, increasing to $30 on 10/7/19. T-shirt is included for registrations received by 10/15.</p>\n\n<p>The fun run/walk registration is $15.&nbsp\; T-shirt is included for registrations received by 10/15.</p>\n\n<p><br />\n<strong>Awards/Categories:</strong><br />\nTop 1 M &amp\; F overall\, Top 1 M &amp\; F in age groups: 12 &amp\; under\, 13-19\, 20-29\, 30-39\, 40-49\, 50-59\, 60-69\, 70+.&nbsp\;</p>\n\n<p><strong>Course:</strong><br />\nThe course will be through the Greenway\, downtown Greenville.<br />\n&nbsp\;</p>\n\n<div><strong>RACE CONTACT INFO</strong><br />\nIf you have any questions about this race\, click below.</div>\n\n<div>\n<p><a href="https://runsignup.com/Race/NC/Greenville/CostumesforaCure">QUESTIONS?</a></p>\n</div>\n</div>\n</div>\n
LOCATION:105 E 1st St Greenville\, NC US 27858
UID:e.840.10772
SEQUENCE:3
DTSTAMP:20260420T092436Z
URL:https://business.greenvillenc.org/events/details/costumes-for-a-cure-10772
END:VEVENT

END:VCALENDAR
