BEGIN:VCALENDAR
VERSION:2.0
PRODID:-//ChamberMaster//Event Calendar 2.0//EN
METHOD:PUBLISH
X-PUBLISHED-TTL:P3D
REFRESH-INTERVAL:P3D
CALSCALE:GREGORIAN
BEGIN:VEVENT
DTSTART:20160811T210000Z
DTEND:20160811T230000Z
X-MICROSOFT-CDO-ALLDAYEVENT:FALSE
SUMMARY:Cosmetology Open House
DESCRIPTION:Join us anytime Aug. 11 from 5pm-7pm at Mitchell's Hair Styling Academy in Arlington Village.\n\n\n\n- Come learn about an exciting career in cosmetology!\n\n- Get program information\n\n- Meet instructors\n\n- View student demonstrations\n\n\n\nWe will be providing light refreshments! Grab your friends and family and stop by to see us. Bring all your questions and find out more about how you can start a new career in just 12 months!\n\n\n\nFor more information contact Gail Nichols at 252.493.7625 or gnichols@email.pittcc.edu.
X-ALT-DESC;FMTTYPE=text/html:<span style="color:rgb(75\, 79\, 86)\; font-family:helvetica\,arial\,sans-serif\; font-size:14px">Join us anytime Aug. 11 from 5pm-7pm at Mitchell&#39\;s Hair Styling Academy in Arlington Village.</span><br />\n<br />\n<span style="color:rgb(75\, 79\, 86)\; font-family:helvetica\,arial\,sans-serif\; font-size:14px">- Come learn about an exciting career in cosmetology!</span><br />\n<span style="color:rgb(75\, 79\, 86)\; font-family:helvetica\,arial\,sans-serif\; font-size:14px">- Get program information</span><br />\n<span style="color:rgb(75\, 79\, 86)\; font-family:helvetica\,arial\,sans-serif\; font-size:14px">- Meet instructors</span><br />\n<span style="color:rgb(75\, 79\, 86)\; font-family:helvetica\,arial\,sans-serif\; font-size:14px">- View student demonstrations</span><br />\n<br />\n<span style="color:rgb(75\, 79\, 86)\; font-family:helvetica\,arial\,sans-serif\; font-size:14px">We will be providing light refreshments! Grab your friends and family and stop by to see us. Bring all your questions and find out more about how you can start a new career in just 12 months!</span><br />\n<br />\n<span style="color:rgb(75\, 79\, 86)\; font-family:helvetica\,arial\,sans-serif\; font-size:14px">For more information contact Gail Nichols at 252.493.7625 or gnichols@email.pittcc.edu.</span>
LOCATION:Mitchell's Hair Styling Academy | Arlington Village
UID:e.840.5802
SEQUENCE:3
DTSTAMP:20260424T035400Z
URL:https://business.greenvillenc.org/events/details/cosmetology-open-house-08-11-2016-5802
END:VEVENT

END:VCALENDAR
