BEGIN:VCALENDAR
VERSION:2.0
PRODID:-//ChamberMaster//Event Calendar 2.0//EN
METHOD:PUBLISH
X-PUBLISHED-TTL:P3D
REFRESH-INTERVAL:P3D
CALSCALE:GREGORIAN
BEGIN:VEVENT
DTSTART:20191123T140000Z
DTEND:20191123T160000Z
X-MICROSOFT-CDO-ALLDAYEVENT:FALSE
SUMMARY:Cookies for a Cause
DESCRIPTION:Cookies for a Cause\n\n	Face Painting\,\n	Cookie Decorating\,\n	Meet Santa!
X-ALT-DESC;FMTTYPE=text/html:<strong>Cookies for a Cause</strong>\n<ul>\n	<li>Face Painting\,</li>\n	<li>Cookie Decorating\,</li>\n	<li>Meet Santa!</li>\n</ul>\n
LOCATION:State Theatre 110 W. 5th Street Greenville\, NC
UID:e.840.10936
SEQUENCE:3
DTSTAMP:20260420T074716Z
URL:https://business.greenvillenc.org/events/details/cookies-for-a-cause-10936
END:VEVENT

END:VCALENDAR
