BEGIN:VCALENDAR
VERSION:2.0
PRODID:-//ChamberMaster//Event Calendar 2.0//EN
METHOD:PUBLISH
X-PUBLISHED-TTL:P3D
REFRESH-INTERVAL:P3D
CALSCALE:GREGORIAN
BEGIN:VEVENT
DTSTART:20170226T010000Z
DTEND:20170227T030000Z
X-MICROSOFT-CDO-ALLDAYEVENT:FALSE
SUMMARY:Contemporary Dance Concert
DESCRIPTION:An exciting mix of cutting-edge choreography from our faculty presented alongside the works of exceptional student choreographers.
X-ALT-DESC;FMTTYPE=text/html:An exciting mix of cutting-edge choreography from our faculty presented alongside the works of exceptional student choreographers.
LOCATION:Messick Theatre Arts Center\, Burnette Studio Theatre Greenville\, NC 27858-4353
UID:e.840.7844
SEQUENCE:3
DTSTAMP:20260423T211149Z
URL:https://business.greenvillenc.org/events/details/contemporary-dance-concert-7844
END:VEVENT

END:VCALENDAR
