BEGIN:VCALENDAR
VERSION:2.0
PRODID:-//ChamberMaster//Event Calendar 2.0//EN
METHOD:PUBLISH
X-PUBLISHED-TTL:P3D
REFRESH-INTERVAL:P3D
CALSCALE:GREGORIAN
BEGIN:VEVENT
DTSTART:20191111T233000Z
DTEND:20191112T003000Z
X-MICROSOFT-CDO-ALLDAYEVENT:FALSE
SUMMARY:Concussion Discussion with Dr. Richard Dalyai\, Neurosurgeon & Dr. Manjunath Markandaya\, Neurologist
DESCRIPTION:JOIN US FOR A SPECIAL EVENT: Advantage Therapy Solutions is excited to host Dr. Richard Dalyai\, Neurosurgeon\, and Dr. Manjunath Markandaya\, Neurologist\, at our office Monday\, November 11 at 6:30pm.  They will be discussing the safety and efficacy of photobiomodulation therapies (Low level light and laser therapy) to reduce and reverse the symptoms of concussion damage.\n\nMore and more research shows long term effects even from mild concussions and increased risk of subsequent concussions following injury.  Many still don?t know about these preventative and restorative therapy options. We know you will be pleasantly surprised at what is available now right here in Greenville.\n\nWe hope you can join us to learn how important photobiomodulation therapies are for the treatment of concussions.  Please visit our website for more information about our clinic and the other conditions we can address with no side effects.   We are thrilled to be able to offer these revolutionary therapies and would love to educate you on how they work! Please let us know if you can join via email to kellie@advantagetherapysolutions.com or call our office at 252-689-8729 anytime Monday-Friday from 8am-7pm to let us know you will be able to join.  This presentation is free and open to the public.  Hope to see you on November 11! \n\n \n\nKellie A Brown\n\nOwner\, Phototherapy Laser Technician\n\nAdvantage Therapy Solutions\n\nhttp://www.advantagetherapysolutions.com\n\nkellie@advantagetherapysolutions.com\n\n(W) 252-689-8729
X-ALT-DESC;FMTTYPE=text/html:<span style="font-size:16px\;"><span style="color:#00cc00\;"><span style="font-family:century gothic\,sans-serif\;"><em><strong>JOIN US FOR A SPECIAL EVENT:</strong></em></span></span><span style="color:#008000\;"><span style="font-family:century gothic\,sans-serif\;"><em><strong> </strong></em></span></span></span><span style="color:#595959\;"><span style="font-family:century gothic\,sans-serif\;">Advantage Therapy Solutions is excited to host Dr. Richard Dalyai\, Neurosurgeon\, and Dr. Manjunath Markandaya\, Neurologist\, at our office <strong>Monday\, November 11 at 6:30pm</strong>.&nbsp\;&nbsp\;They will be discussing the safety and efficacy of photobiomodulation therapies (Low level light and laser therapy) to reduce and reverse the symptoms of concussion damage.</span></span><br />\n<span style="color:#595959\;"><span style="font-family:century gothic\,sans-serif\;">More and more research shows long term effects even from mild concussions and increased risk of subsequent concussions following injury.&nbsp\;&nbsp\;Many still don?t know about these preventative and restorative therapy options. We know you will be pleasantly surprised at what is available now right here in Greenville.</span></span><br />\n<span style="color:#595959\;"><span style="font-family:century gothic\,sans-serif\;">We hope you can join us to learn how important photobiomodulation therapies are for the treatment of concussions.&nbsp\;&nbsp\;Please visit our website for more information about our clinic and the other conditions we can address with no side effects.&nbsp\;&nbsp\;&nbsp\;We are thrilled to be able to offer these revolutionary therapies and would love to educate you on how they work!&nbsp\;</span></span><span style="color:#595959\;"><span style="font-family:century gothic\,sans-serif\;">Please let us know if you can join via email to&nbsp\;<a href="mailto:kellie@advantagetherapysolutions.com"><span style="color:#595959\;">kellie@advantagetherapysolutions.com</span></a>&nbsp\;or call our office at 252-689-8729 anytime Monday-Friday from 8am-7pm to let us know you will be able to join.&nbsp\;&nbsp\;This presentation is free and open to the public. &nbsp\;Hope to see you on November 11!&nbsp\;</span></span><br />\n&nbsp\;<br />\n<span style="font-family:verdana\;"><strong><span style="color:black\;"><span style="font-size:10.5pt\;">Kellie A Brown</span></span></strong><br />\n<span style="color:black\;">Owner\, Phototherapy Laser Technician</span><br />\n<span style="color:black\;">Advantage Therapy Solutions</span><br />\n<span style="color:black\;"><a href="http://www.advantagetherapysolutions.com">http://www.advantagetherapysolutions.com</a><br />\n<a href="mailto:kellie@advantagetherapysolutions.com">kellie@advantagetherapysolutions.com</a><br />\n(W) 252-689-8729</span></span>
LOCATION:Advantage Therapy Solutions 212 E. Arlington Blvd. Greenville\, NC 27858
UID:e.840.10926
SEQUENCE:3
DTSTAMP:20260420T075137Z
URL:https://business.greenvillenc.org/events/details/concussion-discussion-with-dr-richard-dalyai-neurosurgeon-dr-manjunath-markandaya-neurologist-10926
END:VEVENT

END:VCALENDAR
