BEGIN:VCALENDAR
VERSION:2.0
PRODID:-//ChamberMaster//Event Calendar 2.0//EN
METHOD:PUBLISH
X-PUBLISHED-TTL:P3D
REFRESH-INTERVAL:P3D
CALSCALE:GREGORIAN
BEGIN:VEVENT
DTSTART:20160827T150000Z
DTEND:20160827T190000Z
X-MICROSOFT-CDO-ALLDAYEVENT:FALSE
SUMMARY:Community Youth Fair
DESCRIPTION:The Haddocks Church of Winterville NC will be hosting this back to school event. There will be food\, bouncers\, live entertainment\, sports\, and more! Featuring local music from Cappello\, Chosen\, and Adaisha Strong. Back to school supplies will also be given away throughout the day.
X-ALT-DESC;FMTTYPE=text/html:The Haddocks Church of Winterville NC will be hosting this back to school event. There will be food\, bouncers\, live entertainment\, sports\, and more! Featuring local music from Cappello\, Chosen\, and Adaisha Strong. Back to school supplies will also be given away throughout the day.
LOCATION:Hillcrest Park Winterville\, NC
UID:e.840.5804
SEQUENCE:3
DTSTAMP:20260424T035439Z
URL:https://business.greenvillenc.org/events/details/community-youth-fair-08-27-2016-5804
END:VEVENT

END:VCALENDAR
