BEGIN:VCALENDAR
VERSION:2.0
PRODID:-//ChamberMaster//Event Calendar 2.0//EN
METHOD:PUBLISH
X-PUBLISHED-TTL:P3D
REFRESH-INTERVAL:P3D
CALSCALE:GREGORIAN
BEGIN:VEVENT
DTSTART:20170817T203000Z
DTEND:20170817T220000Z
X-MICROSOFT-CDO-ALLDAYEVENT:FALSE
SUMMARY:Community Summer Luau Pig Pickin
DESCRIPTION:Please join Brookdale and their residents\, family\, friends\, and referral sources for a fun evening Luau! We hope if you haven't been to Brookdale that you take advantage of this event and join us for a fun time of food\, fellowship\, and don't forget to check out all we have to offer!\n\n\n\nThe pig and all the fixins will be ready at 5:00 pm! Grab your coworker or you family and come join us for a delicious dinner!
X-ALT-DESC;FMTTYPE=text/html:Please join Brookdale and their residents\, family\, friends\, and referral sources for a fun evening Luau! We hope if you haven&#39\;t been to Brookdale that you take advantage of this event and join us for a fun time of food\, fellowship\, and don&#39\;t forget to check out all we have to offer!<br />\n<br />\nThe pig and all the fixins will be ready at 5:00 pm! Grab your coworker or you family and come join us for a delicious dinner!
LOCATION:Brookdale Dickinson Avenue 2715 Dickinson Avenue Greenville\, NC 27834
UID:e.840.8643
SEQUENCE:3
DTSTAMP:20260423T104620Z
URL:https://business.greenvillenc.org/events/details/community-summer-luau-pig-pickin-8643
END:VEVENT

END:VCALENDAR
